{"text_format":"1","workbook":"xlsx","n_sheets":3,"sheets":["はじめに読んでください","時間割一覧","stepＣ履修希望科目（様式②）"],"not_rendered":{"charts":0,"images":2,"macros":1,"external_links":0,"defined_names":2,"comments":0,"pivot_tables":0},"unopened":[],"bounds":{"document_bytes":16777216,"sheet_cells":100000,"rows_first":2000,"rows_last":500,"rows_between":2000,"halvings":0,"cell_chars":16384,"cell_head_chars":4096},"cells_cut":0,"cells_raw":0,"read":"whole","date_system":"1900"}

{"sheet":"はじめに読んでください","index":0,"n_rows":96,"n_cols":14,"rows_kept":96,"cut":false,"hidden":false,"merged":[[81,7,82,10],[85,2,86,2],[85,3,85,6],[85,7,86,10],[86,3,86,4],[86,5,86,6],[81,2,82,2],[81,3,81,6],[82,3,82,4],[82,5,82,6],[76,7,76,10],[77,3,77,4],[77,5,77,6],[77,7,77,8],[77,9,77,10],[76,2,77,2],[76,3,76,6],[67,2,68,2],[67,3,67,6],[67,7,67,10],[68,3,68,4],[68,5,68,6],[68,7,68,8],[68,9,68,10],[72,2,73,2],[72,3,72,6],[72,7,72,10],[73,3,73,4],[73,5,73,6],[73,7,73,8],[73,9,73,10]]}
["様式②  2020年度 スポーツ科学研究科  聴講可能科目および時間割　                    "]
[]
["（はじめに１）本Excelファイルを開いた際に「保護ビュー」と表示が出た場合は「編集を有効にする」を押してください。"]
[]
[]
[]
[]
[]
[]
["（はじめに２）本Excelファイルを開いた際に「セキュリティの警告」と表示が出た場合は「コンテンツの有効化」を押してください。"]
[]
[]
[]
[]
[]
[]
[]
[]
[]
["（時間割について）"]
[null,"・公開後に修正等が生じた場合は、適宜赤字で更新いたします。 "]
[null,"・未定部分については決まり次第、赤字で更新いたします。 "]
[null,"・時間割や本ファイルがうまく表示されない等、本件に関するお問い合わせは以下までお願いいたします。  "]
[null,"　 所沢総合事務センター資格担当（kyousyoku-tokorozawa@list.waseda.jp）"]
[]
[]
["●様式②作成にあたって、以下のとおりstepを踏んでください●"]
[null,"stepＡ：別sheet「時間割一覧」の（本人記入欄）に本人氏名・電話番号を入力してください"]
[null,"stepＢ：別sheet「時間割一覧」から履修希望科目を選択し、対象科目に☑を入れてください"]
[null,"　※時間割は学期・曜日・時限順となっています"]
[null,"stepＣ：☑を入れた科目が別sheet「stepC履修希望科目（様式②）」に反映されるため確認してください"]
[null,"　※履修上限単位数：年間8単位までとなります。"]
[null,"　※時間割の重複がないか、十分に注意してください"]
[null,"　　例.「春学期」科目と「春クォーター」科目の曜日・時限の重複の場合は、授業が同じ時間帯で行わわれるため履修できません"]
[null,"　※遠距離エラーがないか、十分に注意してください"]
[null,"　　例.2時限に所沢キャンパス、3時限に東伏見キャンパスの科目を申請した場合は、キャンパス間移動に必要な時間を空けていないため履修できません"]
[null,"　※（外国籍の方のみ）在留資格に必要な授業時間数を満たしているか十分に確認してください"]
[null,"　　⇒詳細について、下段（本Sheet2ページ目）の「■【重要】在留資格に関する注意事項」をご確認ください"]
[null,"stepＤ：選択・希望した科目に誤りがないか確認のうえ、A4サイズの用紙印刷し、その他の出願書類とともに所定の期間内に送付してください"]
[null,"　※希望した科目分の「聴講理由書（様式③）」の提出が必要となりますが、「様式②」と「様式③」の整理番号を対応させてください"]
[null,"「聴講理由書（様式③）」は出願書類一式から印刷してください。"]
[null,"　※（委託履修生のみ）研究指導科目は時間割に掲載されていないため、「研究指導（委託履修生のみ)」欄に希望科目を記入してください"]
[null,"stepＥ：別sheet「時間割一覧」にて科目数に応じた聴講料を確認してください"]
[null,"【聴講料について（入試要項より抜粋）】"]
[null,"・聴講料：1科目につき、56,300円（別途、演習科目を履修する場合には学期ごとに35,000円必要となります）"]
[null,"※科目によっては担当教員によって聴講を不可とする場合があります。この場合には聴講料の金額も変更となります。対象の方には個別にお知らせいたします"]
[]
[null,"本ファイルは入学まで各自保管してください。"]
[]
[null,null,null,null,null,null,null,null,null,null,null,null,null,"以　上"]
[]
[]
[]
[null,"（以下、2020年度4月入学科目等履修生募集要項より抜粋）"]
[null,"■【重要】在留資格に関する注意事項　【外国人留学生の方は必ず確認してください】"]
[]
[null,"・外国人留学生は、在留資格上の制約により、科目等履修生として在籍できる期間は（本学・他大学合わせて）通算1年間のみです。"]
[null,"　そのため、他大学で科目等履修生として在籍した場合、次年度に当学の科目等履修生となることを希望しても、入国管理局による在留資格の変更・更新は非常に困難です。"]
[]
[null,"・外国人留学生の方が科目等履修生で在留資格「留学」を取得するためには、在籍期間を通じて1週間に10時間以上の科目履修（※）が必要となります。"]
[null,"　（必要な履修授業時間10時間以上とは、セメスター科目（春学期/秋学期）の科目数に換算すると7科目以上ということになります。※1科目90分計算）"]
[]
[null,"（※）セメスター科目（春学期/秋学期）とクォーター科目を併行して履修する場合は特に注意してください。以下の履修パターンの例をご参考いただき、登録間違いがないように十分に確認してください。"]
[]
[null,"　例１）1年間在籍する場合"]
[null,"　パターン①：春クォーター、秋クォータ―の期間中に在留資格「留学」に必要な履修授業時間を満たさない。"]
[null,"　　　　　　 ⇒春クォーターに＋4科目以上、秋クォーターに＋1科目以上を履修する必要があります。"]
[null,null,"×","春学期3科目",null,null,null,"秋学期4科目"]
[null,null,null,"春クォーター0科目",null,"夏クォーター4科目",null,"秋クォーター2科目",null,"冬クォーター3科目"]
[]
[null,"　パターン②：冬クォータ―の期間中に在留資格「留学」に必要な履修授業時間を満たさない。"]
[null,"　　　　　　⇒冬クォーターに＋1科目以上を履修する必要があります。"]
[null,null,"×","春学期7科目",null,null,null,"秋学期1科目"]
[null,null,null,"春クォーター0科目",null,"夏クォーター0科目",null,"秋クォーター6科目",null,"冬クォーター5科目"]
[]
[null,"  パターン③：在籍期間（1年間）を通じて在留資格「留学」に必要な履修授業時間を満たす。"]
[null,null,"○","春学期0科目",null,null,null,"秋学期4科目"]
[null,null,null,"春クォーター7科目",null,"夏クォーター7科目",null,"秋クォーター3科目",null,"冬クォーター3科目"]
[]
[null,"  例２）春学期のみ在籍する場合"]
[null,"  パターン①：夏クォータ―の期間中に在留資格「留学」に必要な履修授業時間を満たさない。"]
[null,null,"×","春学期3科目",null,null,null,"※秋学期は在籍（在留）しないため\n履修科目なし"]
[null,null,null,"春クォーター4科目",null,"夏クォーター3科目"]
[]
[null,"  パターン②：在籍期間（春学期）を通じて在留資格「留学」に必要な履修授業時間を満たす。"]
[null,null,"○","春学期5科目",null,null,null,"※秋学期は在籍（在留）しないため\n履修科目なし"]
[null,null,null,"春クォーター2科目",null,"夏クォーター3科目"]
[]
[null,"・スポーツ科学研究科の履修科目だけで必要な時間を満たさない場合、不足分については日本語等の科目を必ず登録してください。"]
[]
[null,"・日本語科目の登録のためには、別途日本語教育研究センターへ出願を行う必要がありますのでご注意ください。"]
[null,"　日本語教育研究センターウェブサイト：https://www.waseda.jp/inst/cjl/"]
[null,"　※日本語教育研究センターの科目を登録するための選考が当研究科における選考とは別に必要です。これに関連して選考料の納入および選考書類の提出が必要となります。"]
[null,"　　手続き等の詳細については2月初旬 に日本語教育研究センターWebサイト上にて公開予定となりますので、登録希望者は必ず確認してください。"]
[]
[null," ・科目登録期間後に日本語科目等を追加で登録することはできませんので、上記の条件を満たすよう十分に注意のうえ、科目登録を行ってください。"]

{"sheet":"時間割一覧","index":1,"n_rows":308,"n_cols":22,"rows_kept":308,"cut":false,"hidden":false,"merged":[[2,14,2,17],[3,14,3,17],[2,20,2,21],[3,20,3,21],[1,14,1,17],[1,20,1,21]]}
["2020年度 スポーツ科学研究科  聴講可能科目および時間割　                    "]
[null,null,null,null,null,null,null,null,null,null,"最新更新日：2020/1/31",null,"stepＡ","（本人記入欄） ","※以下に記入した赤字の内容が「stepＣ履修希望科目（様式②）」に反映されます",null,null,null,null,"（本人記入欄）","※以下に記入した赤字の内容が「stepＣ履修希望科目（様式②）」に反映されます"]
[null,null,null,null,null,null,null,null,null,null,"情報公開日：2020/1/31",null,"★記入→","漢字氏名：","早稲田　太郎",null,null,null,null,"携帯電話：","090-9999-9999"]
[null,null,null,null,null,null,null,null,null,null,null,null,null,"カナ氏名：","ワセダ　タロウ",null,null,null,null,"自宅電話：","03-9999-9999"]
[]
[null,null,null,null,null,null,null,null,null,null,null,null,"stepＥ","（以下、自動計算となり記入不要です　※科目選択後に計算されます）",null,null,null,null,null,"（記入不要・自動計算）"]
[null,null,null,null,null,null,null,null,null,null,null,null,"★確認→","聴講料",null,"春学期聴講料：",{"$f":"SUM(E19:E160)","v":0},"円",null,"春学期科目数合計：",null,{"$f":"COUNTIF(C19:C160,-1)","v":0}]
[null,null,null,null,null,null,null,null,null,null,null,null,null,null,null,"実験演習料：",{"$f":"MAX(F19:F160)","v":0},"円"]
[null,null,null,null,null,null,null,null,null,null,null,null,null,null,null,"春学期合計：",{"$f":"SUM(Q7:Q8)","v":0},"円"]
[]
[null,null,null,null,null,null,null,null,null,null,null,null,null,null,"（記入不要・自動計算）",null,null,null,null,"（記入不要・自動計算）"]
[null,null,null,null,null,null,null,null,null,null,null,null,null,null,null,"秋学期聴講料：",{"$f":"SUM(E165:E307)","v":0},"円",null,"秋学期科目数合計：",null,{"$f":"COUNTIF(C165:C307,-1)","v":0}]
[null,null,null,null,null,null,null,null,null,null,null,null,null,null,null,"実験演習料：",{"$f":"MAX(F165:F307)","v":0},"円"]
[null,null,null,null,null,null,null,null,null,null,null,null,null,null,null,"秋学期合計：",{"$f":"SUM(Q12:Q13)","v":0},"円"]
[]
[]
["stepＢ","以下、希望する科目に☑を入れてください"]
["【春学期】\n","↓","【非表示】","【固定】\n関数IF","【固定】\n×単位数","【予め入力】\n演習サイン","【別sheetへ】選択科目","【非表示】学籍キー","【非表示】\n氏名",null,"整理番号","科目名","キャンパス","実施科目キー","科目クラスコード","学期","曜日","時限","単位数","担当教員","授業内容区分名称","備考"]
[null,null,0,{"$f":"IF(C19,56300,\"0\")","v":"0"},{"$f":"D19*S19","v":0},{"$f":"IF(AND(C19=-1,U19=\"専門演習\"),35000,\"0\")","v":"0"},{"$f":"IF(L19=\"\",\"\",IF(D19=56300,COUNTIF(D$19:D19,D19),\"\"))","v":""},null,null,null,1,"スポーツメディア論演習（１）Ａ","東伏見","5001013015","01","春学期","月","１時限",2,"トンプソン　リー　Ａ．","専門演習"]
[null,null,0,{"$f":"IF(C20,56300,\"0\")","v":"0"},0,{"$f":"IF(AND(C20=-1,U20=\"専門演習\"),35000,\"0\")","v":"0"},{"$f":"IF(L20=\"\",\"\",IF(D20=56300,COUNTIF(D$19:D20,D20),\"\"))","v":""},null,null,null,2,"アスレティックトレーニング演習（１）Ａ","東伏見","5001013238","01","春学期","月","１時限",2,"広瀬　統一","専門演習"]
[null,null,0,"0",0,"0",{"$f":"IF(L21=\"\",\"\",IF(D21=56300,COUNTIF(D$19:D21,D21),\"\"))","v":""},null,null,null,3,"筋生物学演習（１）Ａ","所沢","5001013240","01","春学期","月","１時限",2,"秋本　崇之","専門演習"]
[null,null,0,{"$f":"IF(C22,56300,\"0\")","v":"0"},{"$f":"D22*S22","v":0},{"$f":"IF(AND(C22=-1,U22=\"専門演習\"),35000,\"0\")","v":"0"},{"$f":"IF(L22=\"\",\"\",IF(D22=56300,COUNTIF(D$19:D22,D22),\"\"))","v":""},null,null,null,4,"冬季スポーツコーチング学演習（１）A","所沢",5001013440,"01","春学期","月","１時限",2,"藤田　善也","専門演習"]
[null,null,0,"0",0,"0",{"$f":"IF(L23=\"\",\"\",IF(D23=56300,COUNTIF(D$19:D23,D23),\"\"))","v":""},null,null,null,5,"舞踊表現特論","所沢","5001015024","01","春学期","月","２時限",2,"杉山　千鶴","専門講義"]
[null,null,0,"0",0,"0",{"$f":"IF(L24=\"\",\"\",IF(D24=56300,COUNTIF(D$19:D24,D24),\"\"))","v":""},null,null,null,6,"予防医学演習（１）Ａ","所沢","5001013236","01","春学期","月","２時限",2,"鈴木　克彦","専門演習"]
[null,null,0,"0",0,"0",{"$f":"IF(L25=\"\",\"\",IF(D25=56300,COUNTIF(D$19:D25,D25),\"\"))","v":""},null,null,null,7,"アスレティックトレーニング演習（２）Ａ","東伏見","5001014238","01","春学期","月","２時限",2,"広瀬　統一","専門演習"]
[null,null,0,{"$f":"IF(C26,56300,\"0\")","v":"0"},{"$f":"D26*S26","v":0},"0",{"$f":"IF(L26=\"\",\"\",IF(D26=56300,COUNTIF(D$19:D26,D26),\"\"))","v":""},null,null,null,8,"筋生物学演習（２）Ａ","所沢","5001014240","01","春学期","月","２時限",2,"秋本　崇之","専門演習"]
[null,null,0,{"$f":"IF(C27,56300,\"0\")","v":"0"},{"$f":"D27*S27","v":0},{"$f":"IF(AND(C27=-1,U27=\"専門演習\"),35000,\"0\")","v":"0"},{"$f":"IF(L27=\"\",\"\",IF(D27=56300,COUNTIF(D$19:D27,D27),\"\"))","v":""},null,null,null,9,"冬季スポーツコーチング学演習（２）A","所沢",5001014440,"01","春学期","月","２時限",2,"藤田　善也","専門演習"]
[null,null,0,"0",0,"0",{"$f":"IF(L28=\"\",\"\",IF(D28=56300,COUNTIF(D$19:D28,D28),\"\"))","v":""},null,null,null,10,"スポーツ社会学演習（１）Ａ","東伏見","5001013020","01","春学期","月","３時限",2,"中澤　篤史","専門演習"]
[null,null,0,"0",0,"0",{"$f":"IF(L29=\"\",\"\",IF(D29=56300,COUNTIF(D$19:D29,D29),\"\"))","v":""},null,null,null,11,"スポーツビジネス・アドミニストレーション演習（１）Ａ","東伏見","5001013124","01","春学期","月","３時限",2,"武藤　泰明","専門演習"]
[null,null,0,"0",0,"0",{"$f":"IF(L30=\"\",\"\",IF(D30=56300,COUNTIF(D$19:D30,D30),\"\"))","v":""},null,null,null,12,"スポーツビジネス法演習（１）Ａ","東伏見","5001013128","01","春学期","月","３時限",2,"松本　泰介","専門演習"]
[null,null,0,"0",0,"0",{"$f":"IF(L31=\"\",\"\",IF(D31=56300,COUNTIF(D$19:D31,D31),\"\"))","v":""},null,null,null,13,"健康行動科学演習（１）Ａ","所沢","5001013232","01","春学期","月","３時限",2,"岡　浩一朗","専門演習"]
[null,null,0,"0",0,"0",{"$f":"IF(L32=\"\",\"\",IF(D32=56300,COUNTIF(D$19:D32,D32),\"\"))","v":""},null,null,null,14,"健康教育学演習（１）Ａ","所沢","5001013246","01","春学期","月","３時限",2,"石井　香織","専門演習"]
[null,null,0,"0",0,"0",{"$f":"IF(L33=\"\",\"\",IF(D33=56300,COUNTIF(D$19:D33,D33),\"\"))","v":""},null,null,null,15,"アスレティックパフォーマンス演習（１）Ａ","所沢","5001013250","01","春学期","月","３時限",2,"平山　邦明","専門演習"]
[null,null,0,"0",0,"0",{"$f":"IF(L34=\"\",\"\",IF(D34=56300,COUNTIF(D$19:D34,D34),\"\"))","v":""},null,null,null,16,"運動器スポーツ機能解剖学特論","所沢","5001015256","01","春学期","月","３時限",2,"熊井　司","専門講義"]
[null,null,0,"0",0,"0",{"$f":"IF(L35=\"\",\"\",IF(D35=56300,COUNTIF(D$19:D35,D35),\"\"))","v":""},null,null,null,17,"チームスポーツコーチング特論","所沢","5001015430","01","春学期","月","３時限",2,"松井　泰二","専門講義"]
[null,null,0,"0",0,"0",{"$f":"IF(L36=\"\",\"\",IF(D36=56300,COUNTIF(D$19:D36,D36),\"\"))","v":""},null,null,null,18,"舞踊論演習（１）Ａ","所沢","5001013030","01","春学期","月","４時限",2,"杉山　千鶴","専門演習"]
[null,null,0,"0",0,"0",{"$f":"IF(L37=\"\",\"\",IF(D37=56300,COUNTIF(D$19:D37,D37),\"\"))","v":""},null,null,null,19,"スポーツ社会学演習（２）Ａ","東伏見","5001014020","01","春学期","月","４時限",2,"中澤　篤史","専門演習"]
[null,null,0,"0",0,"0",{"$f":"IF(L38=\"\",\"\",IF(D38=56300,COUNTIF(D$19:D38,D38),\"\"))","v":""},null,null,null,20,"スポーツビジネス・アドミニストレーション演習（２）Ａ","東伏見","5001014124","01","春学期","月","４時限",2,"武藤　泰明","専門演習"]
[null,null,0,"0",0,"0",{"$f":"IF(L39=\"\",\"\",IF(D39=56300,COUNTIF(D$19:D39,D39),\"\"))","v":""},null,null,null,21,"スポーツビジネス法演習（２）Ａ","東伏見","5001014128","01","春学期","月","４時限",2,"松本　泰介","専門演習"]
[null,null,0,"0",0,"0",{"$f":"IF(L40=\"\",\"\",IF(D40=56300,COUNTIF(D$19:D40,D40),\"\"))","v":""},null,null,null,22,"スポーツ神経精神医科学演習（１）Ａ","所沢","5001013210","01","春学期","月","４時限",2,"西多　昌規","専門演習"]
[null,null,0,"0",0,"0",{"$f":"IF(L41=\"\",\"\",IF(D41=56300,COUNTIF(D$19:D41,D41),\"\"))","v":""},null,null,null,23,"健康行動科学演習（２）Ａ","所沢","5001014232","01","春学期","月","４時限",2,"岡　浩一朗","専門演習"]
[null,null,0,"0",0,"0",{"$f":"IF(L42=\"\",\"\",IF(D42=56300,COUNTIF(D$19:D42,D42),\"\"))","v":""},null,null,null,24,"健康教育学演習（２）Ａ","所沢","5001014246","01","春学期","月","４時限",2,"石井　香織","専門演習"]
[null,null,0,"0",0,"0",{"$f":"IF(L43=\"\",\"\",IF(D43=56300,COUNTIF(D$19:D43,D43),\"\"))","v":""},null,null,null,25,"アスレティックパフォーマンス演習（２）Ａ","所沢","5001014250","01","春学期","月","４時限",2,"平山　邦明","専門演習"]
[null,null,0,"0",0,"0",{"$f":"IF(L44=\"\",\"\",IF(D44=56300,COUNTIF(D$19:D44,D44),\"\"))","v":""},null,null,null,26,"舞踊論演習（２）Ａ","所沢","5001014030","01","春学期","月","５時限",2,"杉山　千鶴","専門演習"]
[null,null,0,"0",0,"0",{"$f":"IF(L45=\"\",\"\",IF(D45=56300,COUNTIF(D$19:D45,D45),\"\"))","v":""},null,null,null,27,"スポーツ社会学特論","東伏見","5001015020","01","春学期","月","５時限",2,"中澤　篤史","専門講義"]
[null,null,0,"0",0,"0",{"$f":"IF(L46=\"\",\"\",IF(D46=56300,COUNTIF(D$19:D46,D46),\"\"))","v":""},null,null,null,28,"運動代謝学演習（１）Ａ","所沢","5001013242","01","春学期","月","５時限",2,"宮下　政司","専門演習"]
[null,null,0,"0",0,"0",{"$f":"IF(L47=\"\",\"\",IF(D47=56300,COUNTIF(D$19:D47,D47),\"\"))","v":""},null,null,null,29,"バイオメカニクス演習（１）Ａ","所沢","5001013342","01","春学期","月","５時限",2,"矢内　利政","専門演習"]
[null,null,0,"0",0,"0",{"$f":"IF(L48=\"\",\"\",IF(D48=56300,COUNTIF(D$19:D48,D48),\"\"))","v":""},null,null,null,30,"ボールゲーム戦術戦略論演習（２）Ａ","東伏見","5001014416","01","春学期","月","５時限",2,"倉石　平","専門演習"]
[null,null,0,"0",0,"0",{"$f":"IF(L49=\"\",\"\",IF(D49=56300,COUNTIF(D$19:D49,D49),\"\"))","v":""},null,null,null,31,"運動代謝学演習（２）Ａ","所沢","5001014242","01","春学期","月","６時限",2,"宮下　政司","専門演習"]
[null,null,0,"0",0,"0",{"$f":"IF(L50=\"\",\"\",IF(D50=56300,COUNTIF(D$19:D50,D50),\"\"))","v":""},null,null,null,32,"スポーツコーチング学演習（１）Ａ","所沢","5001013410","01","春学期","火","１時限",2,"土屋　純","専門演習"]
[null,null,0,"0",0,"0",{"$f":"IF(L51=\"\",\"\",IF(D51=56300,COUNTIF(D$19:D51,D51),\"\"))","v":""},null,null,null,33,"チームスポーツコーチング論演習（１）Ａ","所沢","5001013430","01","春学期","火","１時限",2,"松井　泰二","専門演習"]
[null,null,0,"0",0,"0",{"$f":"IF(L52=\"\",\"\",IF(D52=56300,COUNTIF(D$19:D52,D52),\"\"))","v":""},null,null,null,34,"健康教育学特論","所沢","5001015257","01","春学期","火","２時限",2,"石井　香織","専門講義"]
[null,null,0,{"$f":"IF(C53,56300,\"0\")","v":"0"},{"$f":"D53*S53","v":0},{"$f":"IF(AND(C53=-1,U53=\"専門演習\"),35000,\"0\")","v":"0"},{"$f":"IF(L53=\"\",\"\",IF(D53=56300,COUNTIF(D$19:D53,D53),\"\"))","v":""},null,null,null,35,"エリートコーチング演習（１）Ａ","所沢","5001013810","01","春学期          ","火","２時限        ",2,"土屋　純","専門演習"]
[null,null,0,"0",0,"0",{"$f":"IF(L54=\"\",\"\",IF(D54=56300,COUNTIF(D$19:D54,D54),\"\"))","v":""},null,null,null,36,"スポーツ神経科学演習（１）Ａ","所沢","5001013300","01","春学期","火","２時限",2,"彼末　一之","専門演習"]
[null,null,0,"0",0,"0",{"$f":"IF(L55=\"\",\"\",IF(D55=56300,COUNTIF(D$19:D55,D55),\"\"))","v":""},null,null,null,37,"スポーツ整形外科学演習（１）Ａ","所沢","5001013234","01","春学期","火","３時限",2,"金岡　恒治","専門演習"]
[null,null,0,"0",{"$f":"D56*S56","v":0},"0",{"$f":"IF(L56=\"\",\"\",IF(D56=56300,COUNTIF(D$19:D56,D56),\"\"))","v":""},null,null,null,38,"スポーツ内科学特論","所沢","5001015215","01","春学期","火","３時限",2,"坂本　静男","専門講義"]
[null,null,0,"0",0,"0",{"$f":"IF(L57=\"\",\"\",IF(D57=56300,COUNTIF(D$19:D57,D57),\"\"))","v":""},null,null,null,39,"スポーツ生理学演習（２）Ａ","所沢","5001014325","01","春学期","火","３時限",2,"村岡　功","専門演習"]
[null,null,0,"0",0,"0",{"$f":"IF(L58=\"\",\"\",IF(D58=56300,COUNTIF(D$19:D58,D58),\"\"))","v":""},null,null,null,40,"スポーツメディア論演習（２）Ａ","東伏見","5001014015","01","春学期","水","１時限",2,"トンプソン　リー　Ａ．","専門演習"]
[null,null,0,"0",0,"0",{"$f":"IF(L59=\"\",\"\",IF(D59=56300,COUNTIF(D$19:D59,D59),\"\"))","v":""},null,null,null,41,"体育科教育特論","所沢","5001015026","01","春学期","水","１時限",2,"吉永　武史","専門講義"]
[null,null,0,"0",0,"0",{"$f":"IF(L60=\"\",\"\",IF(D60=56300,COUNTIF(D$19:D60,D60),\"\"))","v":""},null,null,null,42,"ボールゲーム戦術戦略論演習（１）Ａ","東伏見","5001013416","01","春学期","水","１時限",2,"倉石　平","専門演習"]
[null,null,0,"0",0,"0",{"$f":"IF(L61=\"\",\"\",IF(D61=56300,COUNTIF(D$19:D61,D61),\"\"))","v":""},null,null,null,43,"トップスポーツコーチング科学演習（２）Ａ","所沢","5001014405","01","春学期","水","１時限",2,"奥野　景介","専門演習"]
[null,null,0,"0",0,"0",{"$f":"IF(L62=\"\",\"\",IF(D62=56300,COUNTIF(D$19:D62,D62),\"\"))","v":""},null,null,null,44,"スポーツコーチング学演習（２）Ａ","所沢","5001014410","01","春学期","水","１時限",2,"土屋　純","専門演習"]
[null,null,0,"0",0,"0",{"$f":"IF(L63=\"\",\"\",IF(D63=56300,COUNTIF(D$19:D63,D63),\"\"))","v":""},null,null,null,45,"チームスポーツコーチング論演習（２）Ａ","所沢","5001014430","01","春学期","水","１時限",2,"松井　泰二","専門演習"]
[null,null,0,"0",0,"0",{"$f":"IF(L64=\"\",\"\",IF(D64=56300,COUNTIF(D$19:D64,D64),\"\"))","v":""},null,null,null,46,"スポーツ教授学演習（１）Ａ","所沢","5001013035","01","春学期","水","２時限",2,"深見　英一郎","専門演習"]
[null,null,0,"0",0,"0",{"$f":"IF(L65=\"\",\"\",IF(D65=56300,COUNTIF(D$19:D65,D65),\"\"))","v":""},null,null,null,47,"運動器スポーツ機能解剖学演習（１）Ａ","所沢","5001013244","01","春学期","水","２時限",2,"熊井　司","専門演習"]
[null,null,0,"0",0,"0",{"$f":"IF(L66=\"\",\"\",IF(D66=56300,COUNTIF(D$19:D66,D66),\"\"))","v":""},null,null,null,48,"コーチングバイオメカニクス特論","所沢","5001015410","01","春学期","水","２時限",2,"土屋　純","専門講義"]
[null,null,0,"0",0,"0",{"$f":"IF(L67=\"\",\"\",IF(D67=56300,COUNTIF(D$19:D67,D67),\"\"))","v":""},null,null,null,49,"スポーツビジネスマネジメント特論","東伏見","5001015110","01","春学期","水","３時限",2,"原田　宗彦","専門講義"]
[null,null,0,"0",0,"0",{"$f":"IF(L68=\"\",\"\",IF(D68=56300,COUNTIF(D$19:D68,D68),\"\"))","v":""},null,null,null,50,"運動器スポーツ医学演習（１）Ａ","所沢","5001013225","01","春学期","水","３時限",2,"鳥居　俊","専門演習"]
[null,null,0,"0",0,"0",{"$f":"IF(L69=\"\",\"\",IF(D69=56300,COUNTIF(D$19:D69,D69),\"\"))","v":""},null,null,null,51,"運動器スポーツ機能解剖学演習（２）Ａ","所沢","5001014244","01","春学期","水","３時限",2,"熊井　司","専門演習"]
[null,null,0,{"$f":"IF(C70,56300,\"0\")","v":"0"},{"$f":"D70*S70","v":0},{"$f":"IF(AND(C70=-1,U70=\"専門演習\"),35000,\"0\")","v":"0"},{"$f":"IF(L70=\"\",\"\",IF(D70=56300,COUNTIF(D$19:D70,D70),\"\"))","v":""},null,null,null,52,"スポーツ生化学・遺伝学特論","所沢","5001015262","01","春学期          ","水","３時限",2,"谷澤　薫平","専門講義"]
[null,null,0,"0",0,"0",{"$f":"IF(L71=\"\",\"\",IF(D71=56300,COUNTIF(D$19:D71,D71),\"\"))","v":""},null,null,null,53,"スポーツ文化論演習（１）Ａ","東伏見","5001013037","01","春学期","水","４時限",2,"川島　浩平","専門演習"]
[null,null,0,"0",0,"0",{"$f":"IF(L72=\"\",\"\",IF(D72=56300,COUNTIF(D$19:D72,D72),\"\"))","v":""},null,null,null,54,"スポーツ教授学演習（２）Ａ","所沢","5001014035","01","春学期","水","４時限",2,"深見　英一郎","専門演習"]
[null,null,0,"0",0,"0",{"$f":"IF(L73=\"\",\"\",IF(D73=56300,COUNTIF(D$19:D73,D73),\"\"))","v":""},null,null,null,55,"スポーツクラブビジネス論演習（１）Ａ","東伏見","5001013115","01","春学期","水","４時限",2,"間野　義之","専門演習"]
[null,null,0,"0",0,"0",{"$f":"IF(L74=\"\",\"\",IF(D74=56300,COUNTIF(D$19:D74,D74),\"\"))","v":""},null,null,null,56,"脳・運動の生理学特論","所沢","5001015336","01","春学期","水","４時限",2,"宝田　雄大","専門講義"]
[null,null,0,"0",0,"0",{"$f":"IF(L75=\"\",\"\",IF(D75=56300,COUNTIF(D$19:D75,D75),\"\"))","v":""},null,null,null,57,"スポーツ文化論演習（２）Ａ","東伏見","5001014037","01","春学期","水","５時限",2,"川島　浩平","専門演習"]
[null,null,0,"0",0,"0",{"$f":"IF(L76=\"\",\"\",IF(D76=56300,COUNTIF(D$19:D76,D76),\"\"))","v":""},null,null,null,58,"健康スポーツ論演習（２）Ａ","早稲田","5001014105","01","春学期","水","５時限",2,"中村　好男","専門演習"]
[null,null,0,"0",0,"0",{"$f":"IF(L77=\"\",\"\",IF(D77=56300,COUNTIF(D$19:D77,D77),\"\"))","v":""},null,null,null,59,"スポーツクラブビジネス論演習（２）Ａ","東伏見","5001014115","01","春学期","水","５時限",2,"間野　義之","専門演習"]
[null,null,0,"0",0,"0",{"$f":"IF(L78=\"\",\"\",IF(D78=56300,COUNTIF(D$19:D78,D78),\"\"))","v":""},null,null,null,60,"運動免疫学演習（１）Ａ","所沢","5001013200","01","春学期","水","５時限",2,"赤間　高雄","専門演習"]
[null,null,0,"0",0,"0",{"$f":"IF(L79=\"\",\"\",IF(D79=56300,COUNTIF(D$19:D79,D79),\"\"))","v":""},null,null,null,61,"スポーツ神経精神医科学演習（２）Ａ","所沢","5001014210","01","春学期","水","５時限",2,"西多　昌規","専門演習"]
[null,null,0,"0",0,"0",{"$f":"IF(L80=\"\",\"\",IF(D80=56300,COUNTIF(D$19:D80,D80),\"\"))","v":""},null,null,null,62,"スポーツ心理学演習（１）Ａ","所沢","5001013330","01","春学期","水","５時限",2,"正木　宏明","専門演習"]
[null,null,0,"0",0,"0",{"$f":"IF(L81=\"\",\"\",IF(D81=56300,COUNTIF(D$19:D81,D81),\"\"))","v":""},null,null,null,63,"統合運動神経生理学演習（１）Ａ","所沢","5001013338","01","春学期","水","５時限",2,"宝田　雄大","専門演習"]
[null,null,0,"0",0,"0",{"$f":"IF(L82=\"\",\"\",IF(D82=56300,COUNTIF(D$19:D82,D82),\"\"))","v":""},null,null,null,64,"運動免疫学演習（２）Ａ","所沢","5001014200","01","春学期","水","６時限",2,"赤間　高雄","専門演習"]
[null,null,0,{"$f":"IF(C83,56300,\"0\")","v":"0"},{"$f":"D83*S83","v":0},"0",{"$f":"IF(L83=\"\",\"\",IF(D83=56300,COUNTIF(D$19:D83,D83),\"\"))","v":""},null,null,null,65,"スポーツ心理学演習（２）Ａ","所沢","5001014330","01","春学期","水","６時限",2,"正木　宏明","専門演習"]
[null,null,0,{"$f":"IF(C84,56300,\"0\")","v":"0"},{"$f":"D84*S84","v":0},"0",{"$f":"IF(L84=\"\",\"\",IF(D84=56300,COUNTIF(D$19:D84,D84),\"\"))","v":""},null,null,null,66,"統合運動神経生理学演習（２）Ａ","所沢","5001014338","01","春学期","水","６時限",2,"宝田　雄大","専門演習"]
[null,null,0,{"$f":"IF(C85,56300,\"0\")","v":"0"},{"$f":"D85*S85","v":0},"0",{"$f":"IF(L85=\"\",\"\",IF(D85=56300,COUNTIF(D$19:D85,D85),\"\"))","v":""},null,null,null,67,"環境運動生理学演習（１）Ａ","所沢","5001013251","01","春学期","木","１時限",2,"細川　由梨","専門演習"]
[null,null,0,"0",0,{"$f":"IF(AND(C86=-1,U86=\"専門演習\"),35000,\"0\")","v":"0"},{"$f":"IF(L86=\"\",\"\",IF(D86=56300,COUNTIF(D$19:D86,D86),\"\"))","v":""},null,null,null,68,"スポーツ神経科学演習（２）Ａ","所沢","5001014300","01","春学期","木","１時限",2,"彼末　一之","専門演習"]
[null,null,0,"0",0,"0",{"$f":"IF(L87=\"\",\"\",IF(D87=56300,COUNTIF(D$19:D87,D87),\"\"))","v":""},null,null,null,69,"コンディショニング特論","東伏見","5001015420","01","春学期","木","１時限",2,"岡田　純一","専門講義"]
[null,null,0,"0",0,"0",{"$f":"IF(L88=\"\",\"\",IF(D88=56300,COUNTIF(D$19:D88,D88),\"\"))","v":""},null,null,null,70,"スポーツ教授学特論","所沢","5001015030","01","春学期","木","２時限",2,"深見　英一郎","専門講義"]
[null,null,0,"0",0,"0",{"$f":"IF(L89=\"\",\"\",IF(D89=56300,COUNTIF(D$19:D89,D89),\"\"))","v":""},null,null,null,71,"環境運動生理学演習（２）Ａ","所沢","5001014251","01","春学期","木","２時限",2,"細川　由梨","専門演習"]
[null,null,0,"0",0,"0",{"$f":"IF(L90=\"\",\"\",IF(D90=56300,COUNTIF(D$19:D90,D90),\"\"))","v":""},null,null,null,72,"スポーツ生理学特論","所沢","5001015325","01","春学期","木","２時限",2,"村岡　功","専門講義"]
[null,null,0,"0",0,"0",{"$f":"IF(L91=\"\",\"\",IF(D91=56300,COUNTIF(D$19:D91,D91),\"\"))","v":""},null,null,null,73,"スポーツ認知神経科学特論","所沢","5001015338","01","春学期","木","２時限",2,"正木　宏明","専門講義"]
[null,null,0,"0",0,"0",{"$f":"IF(L92=\"\",\"\",IF(D92=56300,COUNTIF(D$19:D92,D92),\"\"))","v":""},null,null,null,74,"スポーツ倫理学・教育学演習（１）Ａ","所沢","5001013010","01","春学期","木","３時限",2,"友添　秀則","専門演習"]
[null,null,0,"0",0,"0",{"$f":"IF(L93=\"\",\"\",IF(D93=56300,COUNTIF(D$19:D93,D93),\"\"))","v":""},null,null,null,75,"スポーツ疫学演習（１）Ａ","所沢","5001013248","01","春学期","木","３時限",2,"澤田　亨","専門演習"]
[null,null,0,"0",0,"0",{"$f":"IF(L94=\"\",\"\",IF(D94=56300,COUNTIF(D$19:D94,D94),\"\"))","v":""},null,null,null,76,"スポーツ生理学演習（１）Ａ","所沢","5001013325","01","春学期","木","３時限",2,"村岡　功","専門演習"]
[null,null,0,"0",0,"0",{"$f":"IF(L95=\"\",\"\",IF(D95=56300,COUNTIF(D$19:D95,D95),\"\"))","v":""},null,null,null,77,"スポーツ史演習（１）Ａ","東伏見","5001013028","01","春学期","木","４時限",2,"石井　昌幸","専門演習"]
[null,null,0,"0",0,"0",{"$f":"IF(L96=\"\",\"\",IF(D96=56300,COUNTIF(D$19:D96,D96),\"\"))","v":""},null,null,null,78,"スポーツ倫理学・教育学演習（２）Ａ","所沢","5001014010","01","春学期","木","４時限",2,"友添　秀則","専門演習"]
[null,null,0,"0",0,"0",{"$f":"IF(L97=\"\",\"\",IF(D97=56300,COUNTIF(D$19:D97,D97),\"\"))","v":""},null,null,null,79,"スポーツ疫学演習（２）Ａ","所沢","5001014248","01","春学期","木","４時限",2,"澤田　亨","専門演習"]
[null,null,0,"0",0,"0",{"$f":"IF(L98=\"\",\"\",IF(D98=56300,COUNTIF(D$19:D98,D98),\"\"))","v":""},null,null,null,80,"スポーツ史演習（２）Ａ","東伏見","5001014028","01","春学期","木","５時限",2,"石井　昌幸","専門演習"]
[null,null,0,"0",0,"0",{"$f":"IF(L99=\"\",\"\",IF(D99=56300,COUNTIF(D$19:D99,D99),\"\"))","v":""},null,null,null,81,"スポーツ経営学演習（１）Ａ","東伏見","5001013100","01","春学期","木","５時限",2,"木村　和彦","専門演習"]
[null,null,0,"0",0,"0",{"$f":"IF(L100=\"\",\"\",IF(D100=56300,COUNTIF(D$19:D100,D100),\"\"))","v":""},null,null,null,82,"健康スポーツ論演習（１）Ａ","早稲田","5001013105","01","春学期","木","５時限",2,"中村　好男","専門演習"]
[null,null,0,"0",0,"0",{"$f":"IF(L101=\"\",\"\",IF(D101=56300,COUNTIF(D$19:D101,D101),\"\"))","v":""},null,null,null,83,"スポーツ組織論演習（１）Ａ","東伏見","5001013122","01","春学期","木","５時限",2,"作野　誠一","専門演習"]
[null,null,0,"0",0,"0",{"$f":"IF(L102=\"\",\"\",IF(D102=56300,COUNTIF(D$19:D102,D102),\"\"))","v":""},null,null,null,84,"スポーツ整形外科学演習（２）Ａ","東伏見","5001014234","01","春学期","木","５時限",2,"金岡　恒治","専門演習"]
[null,null,0,"0",0,"0",{"$f":"IF(L103=\"\",\"\",IF(D103=56300,COUNTIF(D$19:D103,D103),\"\"))","v":""},null,null,null,85,"スポーツ経営学演習（２）Ａ","東伏見","5001014100","01","春学期","木","６時限",2,"木村　和彦","専門演習"]
[null,null,0,"0",0,"0",{"$f":"IF(L104=\"\",\"\",IF(D104=56300,COUNTIF(D$19:D104,D104),\"\"))","v":""},null,null,null,86,"スポーツ組織論演習（２）Ａ","東伏見","5001014122","01","春学期","木","６時限",2,"作野　誠一","専門演習"]
[null,null,0,"0",0,"0",{"$f":"IF(L105=\"\",\"\",IF(D105=56300,COUNTIF(D$19:D105,D105),\"\"))","v":""},null,null,null,87,"バイオメカニクス演習（２）Ａ","所沢","5001014342","01","春学期","木","６時限",2,"矢内　利政","専門演習"]
[null,null,0,"0",0,"0",{"$f":"IF(L106=\"\",\"\",IF(D106=56300,COUNTIF(D$19:D106,D106),\"\"))","v":""},null,null,null,88,"スポーツクラブマネジメント演習（１）Ａ","早稲田","5001013600","01","春学期","木","６時限",2,"間野　義之","専門演習"]
[null,null,0,"0",0,"0",{"$f":"IF(L107=\"\",\"\",IF(D107=56300,COUNTIF(D$19:D107,D107),\"\"))","v":""},null,null,null,89,"健康スポーツマネジメント演習（１）Ａ","早稲田","5001013700","01","春学期","木","６時限",2,"中村　好男","専門演習"]
[null,null,0,"0",0,"0",{"$f":"IF(L108=\"\",\"\",IF(D108=56300,COUNTIF(D$19:D108,D108),\"\"))","v":""},null,null,null,90,"介護予防マネジメント演習（１）Ａ","早稲田","5001013800","01","春学期","木","６時限",2,"岡　浩一朗","専門演習"]
[null,null,0,"0",0,"0",{"$f":"IF(L109=\"\",\"\",IF(D109=56300,COUNTIF(D$19:D109,D109),\"\"))","v":""},null,null,null,91,"スポーツビジネスマネジメント論演習（１）Ａ","東伏見","5001013110","01","春学期","金","１時限",2,"原田　宗彦","専門演習"]
[null,null,0,"0",0,"0",{"$f":"IF(L110=\"\",\"\",IF(D110=56300,COUNTIF(D$19:D110,D110),\"\"))","v":""},null,null,null,92,"スポーツビジネスマーケティング演習（１）Ａ","東伏見","5001013126","01","春学期","金","１時限",2,"松岡　宏高","専門演習"]
[null,null,0,"0",0,"0",{"$f":"IF(L111=\"\",\"\",IF(D111=56300,COUNTIF(D$19:D111,D111),\"\"))","v":""},null,null,null,93,"走運動・コーチング科学演習（１）Ａ","所沢","5001013400","01","春学期","金","１時限",2,"礒　繁雄","専門演習"]
[null,null,0,"0",0,"0",{"$f":"IF(L112=\"\",\"\",IF(D112=56300,COUNTIF(D$19:D112,D112),\"\"))","v":""},null,null,null,94,"トップスポーツコーチング科学演習（１）Ａ","所沢","5001013405","01","春学期","金","１時限",2,"奥野　景介","専門演習"]
[null,null,0,"0",0,"0",{"$f":"IF(L113=\"\",\"\",IF(D113=56300,COUNTIF(D$19:D113,D113),\"\"))","v":""},null,null,null,95,"スポーツビジネスマネジメント論演習（２）Ａ","東伏見","5001014110","01","春学期","金","２時限",2,"原田　宗彦","専門演習"]
[null,null,0,"0",0,"0",{"$f":"IF(L114=\"\",\"\",IF(D114=56300,COUNTIF(D$19:D114,D114),\"\"))","v":""},null,null,null,96,"スポーツビジネスマーケティング演習（２）Ａ","東伏見","5001014126","01","春学期","金","２時限",2,"松岡　宏高","専門演習"]
[null,null,0,"0",0,"0",{"$f":"IF(L115=\"\",\"\",IF(D115=56300,COUNTIF(D$19:D115,D115),\"\"))","v":""},null,null,null,97,"スポーツ健康管理学演習（１）Ａ","所沢","5001013220","01","春学期","金","２時限",2,"坂本　静男","専門演習"]
[null,null,0,"0",0,"0",{"$f":"IF(L116=\"\",\"\",IF(D116=56300,COUNTIF(D$19:D116,D116),\"\"))","v":""},null,null,null,98,"予防医学演習（２）Ａ","所沢","5001014236","01","春学期","金","２時限",2,"鈴木　克彦","専門演習"]
[null,null,0,"0",0,"0",{"$f":"IF(L117=\"\",\"\",IF(D117=56300,COUNTIF(D$19:D117,D117),\"\"))","v":""},null,null,null,99,"スポーツ疫学・統計学特論","所沢","5001015259","01","春学期","金","２時限",2,"澤田　亨","専門講義"]
[null,null,0,"0",0,"0",{"$f":"IF(L118=\"\",\"\",IF(D118=56300,COUNTIF(D$19:D118,D118),\"\"))","v":""},null,null,null,100,"スポーツ情報処理特論","所沢","5001015335","01","春学期","金","２時限",2,"誉田　雅彰","専門講義"]
[null,null,0,"0",0,"0",{"$f":"IF(L119=\"\",\"\",IF(D119=56300,COUNTIF(D$19:D119,D119),\"\"))","v":""},null,null,null,101,"武道のコーチング学演習（１）A","所沢","5001013435","01","春学期","金","２時限",2,"射手矢　岬","専門演習"]
[null,null,0,"0",0,"0",{"$f":"IF(L120=\"\",\"\",IF(D120=56300,COUNTIF(D$19:D120,D120),\"\"))","v":""},null,null,null,102,"走運動・コーチング科学演習（２）Ａ","所沢","5001014400","01","春学期","金","２時限",2,"礒　繁雄","専門演習"]
[null,null,0,"0",0,"0",{"$f":"IF(L121=\"\",\"\",IF(D121=56300,COUNTIF(D$19:D121,D121),\"\"))","v":""},null,null,null,103,"スポーツ情報処理演習（１）Ａ","所沢","5001013335","01","春学期","金","３時限",2,"誉田　雅彰","専門演習"]
[null,null,0,"0",0,"0",{"$f":"IF(L122=\"\",\"\",IF(D122=56300,COUNTIF(D$19:D122,D122),\"\"))","v":""},null,null,null,104,"トレーニング科学演習（１）Ａ","東伏見","5001013420","01","春学期","金","３時限",2,"岡田　純一","専門演習"]
[null,null,0,"0",0,"0",{"$f":"IF(L123=\"\",\"\",IF(D123=56300,COUNTIF(D$19:D123,D123),\"\"))","v":""},null,null,null,105,"武道のコーチング学演習（２）A","所沢","5001014435","01","春学期","金","３時限",2,"射手矢　岬","専門演習"]
[null,null,0,"0",0,"0",{"$f":"IF(L124=\"\",\"\",IF(D124=56300,COUNTIF(D$19:D124,D124),\"\"))","v":""},null,null,null,106,"体育科教育学演習（１）Ａ","所沢","5001013032","01","春学期","金","４時限",2,"吉永　武史","専門演習"]
[null,null,0,"0",0,"0",{"$f":"IF(L125=\"\",\"\",IF(D125=56300,COUNTIF(D$19:D125,D125),\"\"))","v":""},null,null,null,107,"スポーツ健康管理学演習（２）Ａ","所沢","5001014220","01","春学期","金","４時限",2,"坂本　静男","専門演習"]
[null,null,0,"0",0,"0",{"$f":"IF(L126=\"\",\"\",IF(D126=56300,COUNTIF(D$19:D126,D126),\"\"))","v":""},null,null,null,108,"運動器スポーツ医学演習（２）Ａ","所沢","5001014225","01","春学期","金","４時限",2,"鳥居　俊","専門演習"]
[null,null,0,"0",0,"0",{"$f":"IF(L127=\"\",\"\",IF(D127=56300,COUNTIF(D$19:D127,D127),\"\"))","v":""},null,null,null,109,"スポーツ情報処理演習（２）Ａ","所沢","5001014335","01","春学期","金","４時限",2,"誉田　雅彰","専門演習"]
[null,null,0,"0",0,"0",{"$f":"IF(L128=\"\",\"\",IF(D128=56300,COUNTIF(D$19:D128,D128),\"\"))","v":""},null,null,null,110,"トレーニング科学演習（２）Ａ","東伏見","5001014420","01","春学期","金","４時限",2,"岡田　純一","専門演習"]
[null,null,0,"0",0,"0",{"$f":"IF(L129=\"\",\"\",IF(D129=56300,COUNTIF(D$19:D129,D129),\"\"))","v":""},null,null,null,111,"体育科教育学演習（２）Ａ","所沢","5001014032","01","春学期","金","５時限",2,"吉永　武史","専門演習"]
[null,null,0,"0",0,"0",{"$f":"IF(L130=\"\",\"\",IF(D130=56300,COUNTIF(D$19:D130,D130),\"\"))","v":""},null,null,null,112,"コーチング心理学演習（１）Ａ","東伏見","5001013415","01","春学期","金","４時限",2,"堀野　博幸","専門演習"]
[null,null,0,"0",0,"0",{"$f":"IF(L131=\"\",\"\",IF(D131=56300,COUNTIF(D$19:D131,D131),\"\"))","v":""},null,null,null,113,"コーチング心理学演習（２）Ａ","東伏見","5001014415","01","春学期","金","５時限",2,"堀野　博幸","専門演習"]
[null,null,0,{"$f":"IF(C132,56300,\"0\")","v":"0"},{"$f":"D132*S132","v":0},{"$f":"IF(AND(C132=-1,U132=\"専門演習\"),35000,\"0\")","v":"0"},{"$f":"IF(L132=\"\",\"\",IF(D132=56300,COUNTIF(D$19:D132,D132),\"\"))","v":""},null,null,null,114,"エリートコーチング総合演習","所沢","5001013820","01","春学期          ","土","その他        ",2,"土屋　純・岡田　純一・矢内　利政・奥野　景介・深見　英一郎・中澤　篤史・礒　繁雄・彼末　一之・広瀬　統一・松井　泰二・西多　昌規・倉石　平・間野　義之","専門演習"]
[null,null,0,"0",0,"0",{"$f":"IF(L133=\"\",\"\",IF(D133=56300,COUNTIF(D$19:D133,D133),\"\"))","v":""},null,null,null,115,"生命科学特論","その他","5001015246","01","春学期","無","フルオンデマンド",2,"鈴木　克彦","専門講義"]
[null,null,0,"0",0,"0",{"$f":"IF(L134=\"\",\"\",IF(D134=56300,COUNTIF(D$19:D134,D134),\"\"))","v":""},null,null,null,116,"Historical Foundations of Modern Sport","東伏見","5001019202","01","春クォーター","月","４時限～５時限",2,"石井　昌幸","専門講義"]
[null,null,0,"0",0,"0",{"$f":"IF(L135=\"\",\"\",IF(D135=56300,COUNTIF(D$19:D135,D135),\"\"))","v":""},null,null,null,117,"Managing the Olympic and Paralympic Games","東伏見","5001019210","01","春クォーター","火","１時限～２時限",2,"ＨＯＲＮＥ　ＪＯＨＮ　Ｄ．","専門講義"]
[null,null,0,"0",0,"0",{"$f":"IF(L136=\"\",\"\",IF(D136=56300,COUNTIF(D$19:D136,D136),\"\"))","v":""},null,null,null,118,"Disease Prevention and Health Promotion","所沢","5001019115","01","春クォーター","水","１時限～２時限",1,"アニア　マイケル","専門講義"]
[null,null,0,{"$f":"IF(C137,56300,\"0\")","v":"0"},{"$f":"D137*S137","v":0},{"$f":"IF(AND(C137=-1,U137=\"専門演習\"),35000,\"0\")","v":"0"},{"$f":"IF(L137=\"\",\"\",IF(D137=56300,COUNTIF(D$19:D137,D137),\"\"))","v":""},null,null,null,119,"Sport Governance and Policy","東伏見","5001019205","01","春クォーター","水","２時限～３時限",2,"ウォン　ドナ","専門講義"]
[null,null,0,"0",0,"0",{"$f":"IF(L138=\"\",\"\",IF(D138=56300,COUNTIF(D$19:D138,D138),\"\"))","v":""},null,null,null,120,"Cognitive Neuroscience and Psychiatry of Sport","所沢","5001019108","01","春クォーター","水","３時限～４時限",2,"正木　宏明・西多　昌規","専門講義"]
[null,null,0,"0",0,"0",{"$f":"IF(L139=\"\",\"\",IF(D139=56300,COUNTIF(D$19:D139,D139),\"\"))","v":""},null,null,null,121,"Sport Marketing","東伏見","5001019211","01","春クォーター","水","５時限～６時限",2,"松岡　宏高・原田　宗彦","専門講義"]
[null,null,0,"0",0,"0",{"$f":"IF(L140=\"\",\"\",IF(D140=56300,COUNTIF(D$19:D140,D140),\"\"))","v":""},null,null,null,122,"健康スポーツマネジメント特論","早稲田","5001015105","01","春クォーター","水","６時限～７時限",2,"中村　好男","専門講義"]
[null,null,0,"0",0,"0",{"$f":"IF(L141=\"\",\"\",IF(D141=56300,COUNTIF(D$19:D141,D141),\"\"))","v":""},null,null,null,123,"Gerontology","所沢","5001019116","01","春クォーター","木","１時限～２時限",1,"アニア　マイケル","専門講義"]
[null,null,0,"0",0,"0",{"$f":"IF(L142=\"\",\"\",IF(D142=56300,COUNTIF(D$19:D142,D142),\"\"))","v":""},null,null,null,124,"Human Anatomy 1","所沢","5001019117","01","春クォーター","木","３時限～４時限",2,"杉本　大輔","専門講義"]
[null,null,0,"0",0,"0",{"$f":"IF(L143=\"\",\"\",IF(D143=56300,COUNTIF(D$19:D143,D143),\"\"))","v":""},null,null,null,125,"Sport Management (Seminar 1) A","東伏見","5001013844","01","春クォーター","木","４時限～５時限",2,"松岡　宏高・原田　宗彦・佐藤　晋太郎・ウォン　ドナ","専門演習"]
[null,null,0,"0",0,"0",{"$f":"IF(L144=\"\",\"\",IF(D144=56300,COUNTIF(D$19:D144,D144),\"\"))","v":""},null,null,null,126,"Health and exercise science 1 (Seminar 1) A","所沢","5001013840","01","春クォーター","土","４時限～５時限",2,"西多　昌規・秋本　崇之・澤田　亨・宮下　政司・アニア　マイケル","専門演習"]
[null,null,0,"0",0,"0",{"$f":"IF(L145=\"\",\"\",IF(D145=56300,COUNTIF(D$19:D145,D145),\"\"))","v":""},null,null,null,127,"Health and exercise science 2 (Seminar 1) A","所沢","5001013842","01","春クォーター","土","６時限～７時限",2,"宝田　雄大・彼末　一之・正木　宏明・矢内　利政・杉本　大輔","専門演習"]
[null,null,0,"0",0,"0",{"$f":"IF(L146=\"\",\"\",IF(D146=56300,COUNTIF(D$19:D146,D146),\"\"))","v":""},null,null,null,128,"Fundamentals of Sport Management","東伏見","5001019204","01","春クォーター","木","１時限～２時限",2,"佐藤　晋太郎","専門講義"]
[null,null,0,"0",0,"0",{"$f":"IF(L147=\"\",\"\",IF(D147=56300,COUNTIF(D$19:D147,D147),\"\"))","v":""},null,null,null,129,"運動代謝学特論","所沢","5001015254","01","夏クォーター","月","１時限～２時限",2,"宮下　政司・濱田　有香","専門講義"]
[null,null,0,{"$f":"IF(C148,56300,\"0\")","v":"0"},{"$f":"D148*S148","v":0},{"$f":"IF(AND(C148=-1,U148=\"専門演習\"),35000,\"0\")","v":"0"},{"$f":"IF(L148=\"\",\"\",IF(D148=56300,COUNTIF(D$19:D148,D148),\"\"))","v":""},null,null,null,130,"Sports and New Media","東伏見","5001019217","01","夏クォーター","月","２時限～３時限",2,"ウォン　ドナ","専門講義"]
[null,null,0,"0",0,"0",{"$f":"IF(L149=\"\",\"\",IF(D149=56300,COUNTIF(D$19:D149,D149),\"\"))","v":""},null,null,null,131,"生体ダイナミクス演習（１）Ａ","所沢","5001013305","01","夏クォーター","水","１時限～２時限",2,"川上　泰雄","専門演習"]
[null,null,0,{"$f":"IF(C150,56300,\"0\")","v":"0"},{"$f":"D150*S150","v":0},"0",{"$f":"IF(L150=\"\",\"\",IF(D150=56300,COUNTIF(D$19:D150,D150),\"\"))","v":""},null,null,null,132,"Environmental Health","所沢","5001019122","01","夏クォーター","水","１時限～２時限",2,"アニア　マイケル","専門講義"]
[null,null,0,"0",0,{"$f":"IF(AND(C151=-1,U151=\"専門演習\"),35000,\"0\")","v":"0"},{"$f":"IF(L151=\"\",\"\",IF(D151=56300,COUNTIF(D$19:D151,D151),\"\"))","v":""},null,null,null,133,"Writing Research Papers in the Social Sciences","東伏見","5001019112","01","夏クォーター","水","１時限～２時限",2,"ＨＯＲＮＥ　ＪＯＨＮ　Ｄ．","専門講義"]
[null,null,0,"0",0,"0",{"$f":"IF(L152=\"\",\"\",IF(D152=56300,COUNTIF(D$19:D152,D152),\"\"))","v":""},null,null,null,134,"生体ダイナミクス演習（２）Ａ","所沢","5001014305","01","夏クォーター","水","４時限～５時限",2,"川上　泰雄","専門演習"]
[null,null,0,"0",0,"0",{"$f":"IF(L153=\"\",\"\",IF(D153=56300,COUNTIF(D$19:D153,D153),\"\"))","v":""},null,null,null,135,"Injury Prevention","所沢","5001019119","01","夏クォーター","木","１時限～２時限",2,"杉本　大輔","専門講義"]
[null,null,0,"0",0,"0",{"$f":"IF(L154=\"\",\"\",IF(D154=56300,COUNTIF(D$19:D154,D154),\"\"))","v":""},null,null,null,136,"Human Anatomy 2","所沢","5001019118","01","夏クォーター","木","３時限～４時限",2,"杉本　大輔","専門講義"]
[null,null,0,"0",0,"0",{"$f":"IF(L155=\"\",\"\",IF(D155=56300,COUNTIF(D$19:D155,D155),\"\"))","v":""},null,null,null,137,"Sport Management (Seminar 1) B","東伏見","5001013844","02","夏クォーター","木","４時限～５時限",2,"松岡　宏高・原田　宗彦・佐藤　晋太郎・ウォン　ドナ","専門演習"]
[null,null,0,"0",0,"0",{"$f":"IF(L156=\"\",\"\",IF(D156=56300,COUNTIF(D$19:D156,D156),\"\"))","v":""},null,null,null,138,"Biodynamics(Musculoskeletal System)","所沢","5001019109","01","夏クォーター","金","２時限",1,"川上　泰雄","専門講義"]
[null,null,0,"0",0,"0",{"$f":"IF(L157=\"\",\"\",IF(D157=56300,COUNTIF(D$19:D157,D157),\"\"))","v":""},null,null,null,139,"Health and exercise science 1 (Seminar 1) B","所沢","5001013840","02","夏クォーター","土","４時限～５時限",2,"秋本　崇之・澤田　亨・西多　昌規・宮下　政司・アニア　マイケル","専門演習"]
[null,null,0,{"$f":"IF(C158,56300,\"0\")","v":"0"},{"$f":"D158*S158","v":0},"0",{"$f":"IF(L158=\"\",\"\",IF(D158=56300,COUNTIF(D$19:D158,D158),\"\"))","v":""},null,null,null,140,"Health and exercise science 2 (Seminar 1) B","所沢","5001013842","02","夏クォーター","土","６時限～７時限",2,"宝田　雄大・彼末　一之・正木　宏明・矢内　利政・川上　泰雄・杉本　大輔","専門演習"]
[null,null,0,"0",0,"0",{"$f":"IF(L159=\"\",\"\",IF(D159=56300,COUNTIF(D$19:D159,D159),\"\"))","v":""},null,null,null,141,"Sport Consumer Psychology","東伏見","5001019219","01","夏クォーター","木","１時限～２時限",2,"佐藤　晋太郎","専門講義"]
[null,null,0,{"$f":"IF(C160,56300,\"0\")","v":"0"},{"$f":"D160*S160","v":0},{"$f":"IF(AND(C160=-1,U160=\"専門演習\"),35000,\"0\")","v":"0"},{"$f":"IF(L160=\"\",\"\",IF(D160=56300,COUNTIF(D$19:D160,D160),\"\"))","v":""},null,null,null,142,"スポーツクラブビジネス研究法","早稲田","5001015116","01","夏季集中","無","その他",2,"間野　義之","専門講義"]
[]
[]
[]
["【秋学期】","↓","【非表示】","【固定】\n関数IF","【固定】\n×単位数","【予め入力】\n演習サイン","【別sheetへ】選択科目","【非表示】学籍キー","【非表示】\n氏名",null,"整理番号","科目名","キャンパス","実施科目キー","科目クラスコード","学期","曜日","時限","単位数","担当教員","授業内容区分名称","備考"]
[null,null,0,{"$f":"IF(C165,56300,\"0\")","v":"0"},{"$f":"D165*S165","v":0},{"$f":"IF(AND(C165=-1,U165=\"専門演習\"),35000,\"0\")","v":"0"},{"$f":"IF(L165=\"\",\"\",IF(D165=56300,COUNTIF(D$19:D165,D165),\"\"))","v":""},null,null,null,143,"スポーツメディア論演習（１）Ｂ","東伏見","5001013015","02","秋学期","月","１時限",2,"トンプソン　リー　Ａ．","専門演習"]
[null,null,0,"0",0,"0",{"$f":"IF(L166=\"\",\"\",IF(D166=56300,COUNTIF(D$19:D166,D166),\"\"))","v":""},null,null,null,144,"アスレティックトレーニング演習（１）Ｂ","東伏見","5001013238","02","秋学期","月","１時限",2,"広瀬　統一","専門演習"]
[null,null,0,"0",0,"0",{"$f":"IF(L167=\"\",\"\",IF(D167=56300,COUNTIF(D$19:D167,D167),\"\"))","v":""},null,null,null,145,"筋生物学演習（１）Ｂ","所沢","5001013240","02","秋学期","月","１時限",2,"秋本　崇之","専門演習"]
[null,null,0,{"$f":"IF(C168,56300,\"0\")","v":"0"},{"$f":"D168*S168","v":0},{"$f":"IF(AND(C168=-1,U168=\"専門演習\"),35000,\"0\")","v":"0"},{"$f":"IF(L168=\"\",\"\",IF(D168=56300,COUNTIF(D$19:D168,D168),\"\"))","v":""},null,null,null,146,"冬季スポーツコーチング学演習（１）B","所沢",5001013440,"02","秋学期","月","１時限",2,"藤田　善也","専門演習"]
[null,null,0,"0",0,"0",{"$f":"IF(L169=\"\",\"\",IF(D169=56300,COUNTIF(D$19:D169,D169),\"\"))","v":""},null,null,null,147,"スポーツ文化論特論","東伏見","5001015916","01","秋学期","月","２時限",2,"川島　浩平","専門講義"]
[null,null,0,"0",0,"0",{"$f":"IF(L170=\"\",\"\",IF(D170=56300,COUNTIF(D$19:D170,D170),\"\"))","v":""},null,null,null,148,"スポーツ経営学特論","東伏見","5001015100","01","秋学期","月","２時限",2,"木村　和彦","専門講義"]
[null,null,0,"0",0,"0",{"$f":"IF(L171=\"\",\"\",IF(D171=56300,COUNTIF(D$19:D171,D171),\"\"))","v":""},null,null,null,149,"予防医学演習（１）Ｂ","所沢","5001013236","02","秋学期","月","２時限",2,"鈴木　克彦","専門演習"]
[null,null,0,"0",0,"0",{"$f":"IF(L172=\"\",\"\",IF(D172=56300,COUNTIF(D$19:D172,D172),\"\"))","v":""},null,null,null,150,"アスレティックトレーニング演習（２）Ｂ","東伏見","5001014238","02","秋学期","月","２時限",2,"広瀬　統一","専門演習"]
[null,null,0,"0",0,"0",{"$f":"IF(L173=\"\",\"\",IF(D173=56300,COUNTIF(D$19:D173,D173),\"\"))","v":""},null,null,null,151,"筋生物学演習（２）Ｂ","所沢","5001014240","02","秋学期","月","２時限",2,"秋本　崇之","専門演習"]
[null,null,0,"0",0,"0",{"$f":"IF(L174=\"\",\"\",IF(D174=56300,COUNTIF(D$19:D174,D174),\"\"))","v":""},null,null,null,152,"コーチング特論","所沢","5001015400","01","秋学期","月","２時限",2,"礒　繁雄","専門講義"]
[null,null,0,"0",0,"0",{"$f":"IF(L175=\"\",\"\",IF(D175=56300,COUNTIF(D$19:D175,D175),\"\"))","v":""},null,null,null,153,"武道のコーチング学特論","所沢","5001015435","01","秋学期","月","２時限",2,"射手矢　岬","専門講義"]
[null,null,0,{"$f":"IF(C176,56300,\"0\")","v":"0"},{"$f":"D176*S176","v":0},{"$f":"IF(AND(C176=-1,U176=\"専門演習\"),35000,\"0\")","v":"0"},{"$f":"IF(L176=\"\",\"\",IF(D176=56300,COUNTIF(D$19:D176,D176),\"\"))","v":""},null,null,null,154,"冬季スポーツコーチング学演習（２）B","所沢",5001014440,"02","秋学期","月","２時限",2,"藤田　善也","専門演習"]
[null,null,0,"0",0,"0",{"$f":"IF(L177=\"\",\"\",IF(D177=56300,COUNTIF(D$19:D177,D177),\"\"))","v":""},null,null,null,155,"スポーツビジネス・アドミニストレーション演習（１）Ｂ","東伏見","5001013124","02","秋学期","月","３時限",2,"武藤　泰明","専門演習"]
[null,null,0,"0",0,"0",{"$f":"IF(L178=\"\",\"\",IF(D178=56300,COUNTIF(D$19:D178,D178),\"\"))","v":""},null,null,null,156,"スポーツビジネス法演習（１）Ｂ","東伏見","5001013128","02","秋学期","月","３時限",2,"松本　泰介","専門演習"]
[null,null,0,"0",0,"0",{"$f":"IF(L179=\"\",\"\",IF(D179=56300,COUNTIF(D$19:D179,D179),\"\"))","v":""},null,null,null,157,"健康行動科学演習（１）Ｂ","所沢","5001013232","02","秋学期","月","３時限",2,"岡　浩一朗","専門演習"]
[null,null,0,"0",0,"0",{"$f":"IF(L180=\"\",\"\",IF(D180=56300,COUNTIF(D$19:D180,D180),\"\"))","v":""},null,null,null,158,"健康教育学演習（１）Ｂ","所沢","5001013246","02","秋学期","月","３時限",2,"石井　香織","専門演習"]
[null,null,0,"0",0,"0",{"$f":"IF(L181=\"\",\"\",IF(D181=56300,COUNTIF(D$19:D181,D181),\"\"))","v":""},null,null,null,159,"アスレティックパフォーマンス演習（１）Ｂ","所沢","5001013250","02","秋学期","月","３時限",2,"平山　邦明","専門演習"]
[null,null,0,"0",0,"0",{"$f":"IF(L182=\"\",\"\",IF(D182=56300,COUNTIF(D$19:D182,D182),\"\"))","v":""},null,null,null,160,"スポーツセーフティ特論","所沢","5001015261","01","秋学期","月","３時限",2,"細川　由梨","専門講義"]
[null,null,0,"0",0,"0",{"$f":"IF(L183=\"\",\"\",IF(D183=56300,COUNTIF(D$19:D183,D183),\"\"))","v":""},null,null,null,161,"舞踊論演習（１）Ｂ","所沢","5001013030","02","秋学期","月","４時限",2,"杉山　千鶴","専門演習"]
[null,null,0,"0",0,"0",{"$f":"IF(L184=\"\",\"\",IF(D184=56300,COUNTIF(D$19:D184,D184),\"\"))","v":""},null,null,null,162,"スポーツ社会学演習（２）Ｂ","東伏見","5001014020","02","秋学期","月","４時限",2,"中澤　篤史","専門演習"]
[null,null,0,"0",0,"0",{"$f":"IF(L185=\"\",\"\",IF(D185=56300,COUNTIF(D$19:D185,D185),\"\"))","v":""},null,null,null,163,"スポーツビジネス・アドミニストレーション演習（２）Ｂ","東伏見","5001014124","02","秋学期","月","４時限",2,"武藤　泰明","専門演習"]
[null,null,0,"0",0,"0",{"$f":"IF(L186=\"\",\"\",IF(D186=56300,COUNTIF(D$19:D186,D186),\"\"))","v":""},null,null,null,164,"スポーツビジネス法演習（２）Ｂ","東伏見","5001014128","02","秋学期","月","４時限",2,"松本　泰介","専門演習"]
[null,null,0,"0",0,"0",{"$f":"IF(L187=\"\",\"\",IF(D187=56300,COUNTIF(D$19:D187,D187),\"\"))","v":""},null,null,null,165,"スポーツ神経精神医科学演習（１）Ｂ","所沢","5001013210","02","秋学期","月","４時限",2,"西多　昌規","専門演習"]
[null,null,0,"0",0,"0",{"$f":"IF(L188=\"\",\"\",IF(D188=56300,COUNTIF(D$19:D188,D188),\"\"))","v":""},null,null,null,166,"健康行動科学演習（２）Ｂ","所沢","5001014232","02","秋学期","月","４時限",2,"岡　浩一朗","専門演習"]
[null,null,0,"0",0,"0",{"$f":"IF(L189=\"\",\"\",IF(D189=56300,COUNTIF(D$19:D189,D189),\"\"))","v":""},null,null,null,167,"健康教育学演習（２）Ｂ","所沢","5001014246","02","秋学期","月","４時限",2,"石井　香織","専門演習"]
[null,null,0,"0",0,"0",{"$f":"IF(L190=\"\",\"\",IF(D190=56300,COUNTIF(D$19:D190,D190),\"\"))","v":""},null,null,null,168,"アスレティックパフォーマンス演習（２）Ｂ","所沢","5001014250","02","秋学期","月","４時限",2,"平山　邦明","専門演習"]
[null,null,0,"0",0,"0",{"$f":"IF(L191=\"\",\"\",IF(D191=56300,COUNTIF(D$19:D191,D191),\"\"))","v":""},null,null,null,169,"バイオメカニクス特論","所沢","5001015320","01","秋学期","月","４時限",2,"矢内　利政","専門講義"]
[null,null,0,"0",0,"0",{"$f":"IF(L192=\"\",\"\",IF(D192=56300,COUNTIF(D$19:D192,D192),\"\"))","v":""},null,null,null,170,"ボールゲーム戦術戦略論演習（２）Ｂ","東伏見","5001014416","02","秋学期","月","４時限",2,"倉石　平","専門演習"]
[null,null,0,"0",0,"0",{"$f":"IF(L193=\"\",\"\",IF(D193=56300,COUNTIF(D$19:D193,D193),\"\"))","v":""},null,null,null,171,"スポーツビジネス法特論","東伏見","5001015132","01","秋学期","月","５時限",2,"松本　泰介","専門講義"]
[null,null,0,"0",0,"0",{"$f":"IF(L194=\"\",\"\",IF(D194=56300,COUNTIF(D$19:D194,D194),\"\"))","v":""},null,null,null,172,"スポーツ社会学演習（１）Ｂ","東伏見","5001013020","02","秋学期","月","５時限",2,"中澤　篤史","専門演習"]
[null,null,0,"0",0,"0",{"$f":"IF(L195=\"\",\"\",IF(D195=56300,COUNTIF(D$19:D195,D195),\"\"))","v":""},null,null,null,173,"舞踊論演習（２）Ｂ","所沢","5001014030","02","秋学期","月","５時限",2,"杉山　千鶴","専門演習"]
[null,null,0,"0",0,"0",{"$f":"IF(L196=\"\",\"\",IF(D196=56300,COUNTIF(D$19:D196,D196),\"\"))","v":""},null,null,null,174,"運動代謝学演習（１）Ｂ","所沢","5001013242","02","秋学期","月","５時限",2,"宮下　政司","専門演習"]
[null,null,0,"0",0,"0",{"$f":"IF(L197=\"\",\"\",IF(D197=56300,COUNTIF(D$19:D197,D197),\"\"))","v":""},null,null,null,175,"バイオメカニクス演習（１）Ｂ","所沢","5001013342","02","秋学期","月","５時限",2,"矢内　利政","専門演習"]
[null,null,0,"0",0,"0",{"$f":"IF(L198=\"\",\"\",IF(D198=56300,COUNTIF(D$19:D198,D198),\"\"))","v":""},null,null,null,176,"運動代謝学演習（２）Ｂ","所沢","5001014242","02","秋学期","月","６時限",2,"宮下　政司","専門演習"]
[null,null,0,"0",0,"0",{"$f":"IF(L199=\"\",\"\",IF(D199=56300,COUNTIF(D$19:D199,D199),\"\"))","v":""},null,null,null,177,"スポーツコーチング学演習（１）Ｂ","所沢","5001013410","02","秋学期","火","１時限",2,"土屋　純","専門演習"]
[null,null,0,{"$f":"IF(C200,56300,\"0\")","v":"0"},{"$f":"D200*S200","v":0},"0",{"$f":"IF(L200=\"\",\"\",IF(D200=56300,COUNTIF(D$19:D200,D200),\"\"))","v":""},null,null,null,178,"チームスポーツコーチング論演習（１）Ｂ","所沢","5001013430","02","秋学期","火","１時限",2,"松井　泰二","専門演習"]
[null,null,0,"0",0,"0",{"$f":"IF(L201=\"\",\"\",IF(D201=56300,COUNTIF(D$19:D201,D201),\"\"))","v":""},null,null,null,179,"走運動・コーチング科学演習（２）Ｂ","所沢","5001014400","02","秋学期","火","１時限",2,"礒　繁雄","専門演習"]
[null,null,0,"0",0,"0",{"$f":"IF(L202=\"\",\"\",IF(D202=56300,COUNTIF(D$19:D202,D202),\"\"))","v":""},null,null,null,180,"エリートコーチング演習（１）Ｂ","所沢","5001013810","02","秋学期","火","２時限        ",2,"土屋　純・岡田　純一・奥野　景介・倉石　平・礒　繁雄・松井　泰二・射手矢　岬・堀野　博幸","専門演習"]
[null,null,0,"0",0,"0",{"$f":"IF(L203=\"\",\"\",IF(D203=56300,COUNTIF(D$19:D203,D203),\"\"))","v":""},null,null,null,181,"メディカルコンディショニング特論","所沢","5001015200","01","秋学期","火","３限",2,"赤間　高雄","専門講義"]
[null,null,0,"0",0,"0",{"$f":"IF(L204=\"\",\"\",IF(D204=56300,COUNTIF(D$19:D204,D204),\"\"))","v":""},null,null,null,182,"スポーツ生理学演習（２）Ｂ","所沢","5001014325","02","秋学期","火","３時限",2,"村岡　功","専門演習"]
[null,null,0,"0",0,"0",{"$f":"IF(L205=\"\",\"\",IF(D205=56300,COUNTIF(D$19:D205,D205),\"\"))","v":""},null,null,null,183,"スポーツメディア論演習（２）Ｂ","東伏見","5001014015","02","秋学期","水","１時限",2,"トンプソン　リー　Ａ．","専門演習"]
[null,null,0,"0",0,"0",{"$f":"IF(L206=\"\",\"\",IF(D206=56300,COUNTIF(D$19:D206,D206),\"\"))","v":""},null,null,null,184,"トップスポーツコーチング科学演習（２）Ｂ","所沢","5001014405","02","秋学期","水","１時限",2,"奥野　景介","専門演習"]
[null,null,0,"0",0,"0",{"$f":"IF(L207=\"\",\"\",IF(D207=56300,COUNTIF(D$19:D207,D207),\"\"))","v":""},null,null,null,185,"スポーツコーチング学演習（２）Ｂ","所沢","5001014410","02","秋学期","水","１時限",2,"土屋　純","専門演習"]
[null,null,0,"0",0,"0",{"$f":"IF(L208=\"\",\"\",IF(D208=56300,COUNTIF(D$19:D208,D208),\"\"))","v":""},null,null,null,186,"チームスポーツコーチング論演習（２）Ｂ","所沢","5001014430","02","秋学期","水","１時限",2,"松井　泰二","専門演習"]
[null,null,0,"0",0,"0",{"$f":"IF(L209=\"\",\"\",IF(D209=56300,COUNTIF(D$19:D209,D209),\"\"))","v":""},null,null,null,187,"スポーツ教授学演習（１）Ｂ","所沢","5001013035","02","秋学期","水","２時限",2,"深見　英一郎","専門演習"]
[null,null,0,"0",0,"0",{"$f":"IF(L210=\"\",\"\",IF(D210=56300,COUNTIF(D$19:D210,D210),\"\"))","v":""},null,null,null,188,"スポーツ表象特論","東伏見","5001015015","01","秋学期","水","２時限",2,"トンプソン　リー　Ａ．","専門講義"]
[null,null,0,"0",0,"0",{"$f":"IF(L211=\"\",\"\",IF(D211=56300,COUNTIF(D$19:D211,D211),\"\"))","v":""},null,null,null,189,"運動器スポーツ機能解剖学演習（１）Ｂ","所沢","5001013244","02","秋学期","水","２時限",2,"熊井　司","専門演習"]
[null,null,0,"0",0,"0",{"$f":"IF(L212=\"\",\"\",IF(D212=56300,COUNTIF(D$19:D212,D212),\"\"))","v":""},null,null,null,190,"運動器スポーツ医学演習（１）Ｂ","所沢","5001013225","02","秋学期","水","３時限",2,"鳥居　俊","専門演習"]
[null,null,0,"0",0,"0",{"$f":"IF(L213=\"\",\"\",IF(D213=56300,COUNTIF(D$19:D213,D213),\"\"))","v":""},null,null,null,191,"運動器スポーツ機能解剖学演習（２）Ｂ","所沢","5001014244","02","秋学期","水","３時限",2,"熊井　司","専門演習"]
[null,null,0,"0",0,"0",{"$f":"IF(L214=\"\",\"\",IF(D214=56300,COUNTIF(D$19:D214,D214),\"\"))","v":""},null,null,null,192,"生体ダイナミクス特論","所沢","5001015305","01","秋学期","水","３時限",2,"川上　泰雄","専門講義"]
[null,null,0,"0",0,"0",{"$f":"IF(L215=\"\",\"\",IF(D215=56300,COUNTIF(D$19:D215,D215),\"\"))","v":""},null,null,null,193,"ボールゲーム戦術戦略論演習（１）Ｂ","東伏見","5001013416","02","秋学期","水","３時限",2,"倉石　平","専門演習"]
[null,null,0,"0",0,"0",{"$f":"IF(L216=\"\",\"\",IF(D216=56300,COUNTIF(D$19:D216,D216),\"\"))","v":""},null,null,null,194,"スポーツ文化論演習（１）Ｂ","東伏見","5001013037","02","秋学期","水","４時限",2,"川島　浩平","専門演習"]
[null,null,0,"0",0,"0",{"$f":"IF(L217=\"\",\"\",IF(D217=56300,COUNTIF(D$19:D217,D217),\"\"))","v":""},null,null,null,195,"スポーツ教授学演習（２）Ｂ","所沢","5001014035","02","秋学期","水","４時限",2,"深見　英一郎","専門演習"]
[null,null,0,"0",0,"0",{"$f":"IF(L218=\"\",\"\",IF(D218=56300,COUNTIF(D$19:D218,D218),\"\"))","v":""},null,null,null,196,"スポーツクラブビジネス論演習（１）Ｂ","東伏見","5001013115","02","秋学期","水","４時限",2,"間野　義之","専門演習"]
[null,null,0,"0",0,"0",{"$f":"IF(L219=\"\",\"\",IF(D219=56300,COUNTIF(D$19:D219,D219),\"\"))","v":""},null,null,null,197,"スポーツ神経精神医科学演習（２）Ｂ","所沢","5001014210","02","秋学期","水","４時限",2,"西多　昌規","専門演習"]
[null,null,0,"0",0,"0",{"$f":"IF(L220=\"\",\"\",IF(D220=56300,COUNTIF(D$19:D220,D220),\"\"))","v":""},null,null,null,198,"スポーツ心理学演習（１）Ｂ","所沢","5001013330","02","秋学期","水","４時限",2,"正木　宏明","専門演習"]
[null,null,0,"0",0,"0",{"$f":"IF(L221=\"\",\"\",IF(D221=56300,COUNTIF(D$19:D221,D221),\"\"))","v":""},null,null,null,199,"生体ダイナミクス演習（２）Ｂ","所沢","5001014305","02","秋学期","水","４時限",2,"川上　泰雄","専門演習"]
[null,null,0,{"$f":"IF(C222,56300,\"0\")","v":"0"},{"$f":"D222*S222","v":0},{"$f":"IF(AND(C222=-1,U222=\"専門演習\"),35000,\"0\")","v":"0"},{"$f":"IF(L222=\"\",\"\",IF(D222=56300,COUNTIF(D$19:D222,D222),\"\"))","v":""},null,null,null,200,"スポーツ戦術戦略特論","東伏見","5001015426","01","秋学期","水","４時限",2,"倉石　平","専門講義"]
[null,null,0,"0",0,"0",{"$f":"IF(L223=\"\",\"\",IF(D223=56300,COUNTIF(D$19:D223,D223),\"\"))","v":""},null,null,null,201,"スポーツ文化論演習（２）Ｂ","東伏見","5001014037","02","秋学期","水","５時限",2,"川島　浩平","専門演習"]
[null,null,0,"0",0,"0",{"$f":"IF(L224=\"\",\"\",IF(D224=56300,COUNTIF(D$19:D224,D224),\"\"))","v":""},null,null,null,202,"健康スポーツ論演習（２）Ｂ","早稲田","5001014105","02","秋学期","水","５時限",2,"中村　好男","専門演習"]
[null,null,0,"0",0,"0",{"$f":"IF(L225=\"\",\"\",IF(D225=56300,COUNTIF(D$19:D225,D225),\"\"))","v":""},null,null,null,203,"スポーツクラブビジネス論演習（２）Ｂ","東伏見","5001014115","02","秋学期","水","５時限",2,"間野　義之","専門演習"]
[null,null,0,"0",0,"0",{"$f":"IF(L226=\"\",\"\",IF(D226=56300,COUNTIF(D$19:D226,D226),\"\"))","v":""},null,null,null,204,"運動免疫学演習（１）Ｂ","所沢","5001013200","02","秋学期","水","５時限",2,"赤間　高雄","専門演習"]
[null,null,0,{"$f":"IF(C227,56300,\"0\")","v":"0"},{"$f":"D227*S227","v":0},"0",{"$f":"IF(L227=\"\",\"\",IF(D227=56300,COUNTIF(D$19:D227,D227),\"\"))","v":""},null,null,null,205,"生体ダイナミクス演習（１）Ｂ","所沢","5001013305","02","秋学期","水","５時限",2,"川上　泰雄","専門演習"]
[null,null,0,"0",0,"0",{"$f":"IF(L228=\"\",\"\",IF(D228=56300,COUNTIF(D$19:D228,D228),\"\"))","v":""},null,null,null,206,"統合運動神経生理学演習（１）Ｂ","所沢","5001013338","02","秋学期","水","５時限",2,"宝田　雄大","専門演習"]
[null,null,0,"0",0,"0",{"$f":"IF(L229=\"\",\"\",IF(D229=56300,COUNTIF(D$19:D229,D229),\"\"))","v":""},null,null,null,207,"スポーツ心理学演習（２）Ｂ","所沢","5001014330","02","秋学期","水","５時限",2,"正木　宏明","専門演習"]
[null,null,0,"0",0,{"$f":"IF(AND(C230=-1,U230=\"専門演習\"),35000,\"0\")","v":"0"},{"$f":"IF(L230=\"\",\"\",IF(D230=56300,COUNTIF(D$19:D230,D230),\"\"))","v":""},null,null,null,208,"運動免疫学演習（２）Ｂ","所沢","5001014200","02","秋学期","水","６時限",2,"赤間　高雄","専門演習"]
[null,null,0,"0",0,"0",{"$f":"IF(L231=\"\",\"\",IF(D231=56300,COUNTIF(D$19:D231,D231),\"\"))","v":""},null,null,null,209,"統合運動神経生理学演習（２）Ｂ","所沢","5001014338","02","秋学期","水","６時限",2,"宝田　雄大","専門演習"]
[null,null,0,"0",0,"0",{"$f":"IF(L232=\"\",\"\",IF(D232=56300,COUNTIF(D$19:D232,D232),\"\"))","v":""},null,null,null,210,"スポーツ神経科学演習（２）Ｂ","所沢","5001014300","02","秋学期","木","１時限",2,"彼末　一之","専門演習"]
[null,null,0,"0",0,"0",{"$f":"IF(L233=\"\",\"\",IF(D233=56300,COUNTIF(D$19:D233,D233),\"\"))","v":""},null,null,null,211,"スポーツ整形外科学特論","所沢","5001015244","01","秋学期","木","２時限",2,"金岡　恒治","専門講義"]
[null,null,0,"0",0,"0",{"$f":"IF(L234=\"\",\"\",IF(D234=56300,COUNTIF(D$19:D234,D234),\"\"))","v":""},null,null,null,212,"スポーツ倫理学・教育学演習（１）Ｂ","所沢","5001013010","02","秋学期","木","３時限",2,"友添　秀則","専門演習"]
[null,null,0,"0",0,"0",{"$f":"IF(L235=\"\",\"\",IF(D235=56300,COUNTIF(D$19:D235,D235),\"\"))","v":""},null,null,null,213,"スポーツ史特論","東伏見","5001015022","01","秋学期","木","３時限",2,"石井　昌幸","専門講義"]
[null,null,0,"0",0,"0",{"$f":"IF(L236=\"\",\"\",IF(D236=56300,COUNTIF(D$19:D236,D236),\"\"))","v":""},null,null,null,214,"環境運動生理学演習（１）Ｂ","所沢","5001013251","02","秋学期","木","３時限",2,"細川　由梨","専門演習"]
[null,null,0,"0",0,"0",{"$f":"IF(L237=\"\",\"\",IF(D237=56300,COUNTIF(D$19:D237,D237),\"\"))","v":""},null,null,null,215,"スポーツ生理学演習（１）Ｂ","所沢","5001013325","02","秋学期","木","３時限",2,"村岡　功","専門演習"]
[null,null,0,"0",0,"0",{"$f":"IF(L238=\"\",\"\",IF(D238=56300,COUNTIF(D$19:D238,D238),\"\"))","v":""},null,null,null,216,"スポーツ史演習（１）Ｂ","東伏見","5001013028","02","秋学期","木","４時限",2,"石井　昌幸","専門演習"]
[null,null,0,"0",0,"0",{"$f":"IF(L239=\"\",\"\",IF(D239=56300,COUNTIF(D$19:D239,D239),\"\"))","v":""},null,null,null,217,"スポーツ倫理学・教育学演習（２）Ｂ","所沢","5001014010","02","秋学期","木","４時限",2,"友添　秀則","専門演習"]
[null,null,0,"0",0,"0",{"$f":"IF(L240=\"\",\"\",IF(D240=56300,COUNTIF(D$19:D240,D240),\"\"))","v":""},null,null,null,218,"スポーツ整形外科学演習（１）Ｂ","所沢","5001013234","02","秋学期","木","４時限",2,"金岡　恒治","専門演習"]
[null,null,0,"0",0,"0",{"$f":"IF(L241=\"\",\"\",IF(D241=56300,COUNTIF(D$19:D241,D241),\"\"))","v":""},null,null,null,219,"スポーツ疫学演習（１）Ｂ","所沢","5001013248","02","秋学期","木","４時限",2,"澤田　亨","専門演習"]
[null,null,0,"0",0,"0",{"$f":"IF(L242=\"\",\"\",IF(D242=56300,COUNTIF(D$19:D242,D242),\"\"))","v":""},null,null,null,220,"環境運動生理学演習（２）Ｂ","所沢","5001014251","02","秋学期","木","４時限",2,"細川　由梨","専門演習"]
[null,null,0,"0",0,"0",{"$f":"IF(L243=\"\",\"\",IF(D243=56300,COUNTIF(D$19:D243,D243),\"\"))","v":""},null,null,null,221,"スポーツ神経科学演習（１）Ｂ","所沢","5001013300","02","秋学期","木","４時限",2,"彼末　一之","専門演習"]
[null,null,0,"0",0,"0",{"$f":"IF(L244=\"\",\"\",IF(D244=56300,COUNTIF(D$19:D244,D244),\"\"))","v":""},null,null,null,222,"スポーツ史演習（２）Ｂ","東伏見","5001014028","02","秋学期","木","５時限",2,"石井　昌幸","専門演習"]
[null,null,0,"0",0,"0",{"$f":"IF(L245=\"\",\"\",IF(D245=56300,COUNTIF(D$19:D245,D245),\"\"))","v":""},null,null,null,223,"スポーツ経営学演習（１）Ｂ","東伏見","5001013100","02","秋学期","木","５時限",2,"木村　和彦","専門演習"]
[null,null,0,"0",0,"0",{"$f":"IF(L246=\"\",\"\",IF(D246=56300,COUNTIF(D$19:D246,D246),\"\"))","v":""},null,null,null,224,"健康スポーツ論演習（１）Ｂ","早稲田","5001013105","02","秋学期","木","５時限",2,"中村　好男","専門演習"]
[null,null,0,"0",0,"0",{"$f":"IF(L247=\"\",\"\",IF(D247=56300,COUNTIF(D$19:D247,D247),\"\"))","v":""},null,null,null,225,"スポーツ組織論演習（１）Ｂ","東伏見","5001013122","02","秋学期","木","５時限",2,"作野　誠一","専門演習"]
[null,null,0,"0",0,"0",{"$f":"IF(L248=\"\",\"\",IF(D248=56300,COUNTIF(D$19:D248,D248),\"\"))","v":""},null,null,null,226,"スポーツ整形外科学演習（２）Ｂ","所沢","5001014234","02","秋学期","木","５時限",2,"金岡　恒治","専門演習"]
[null,null,0,"0",0,"0",{"$f":"IF(L249=\"\",\"\",IF(D249=56300,COUNTIF(D$19:D249,D249),\"\"))","v":""},null,null,null,227,"スポーツ疫学演習（２）Ｂ","所沢","5001014248","02","秋学期","木","５時限",2,"澤田　亨","専門演習"]
[null,null,0,"0",0,"0",{"$f":"IF(L250=\"\",\"\",IF(D250=56300,COUNTIF(D$19:D250,D250),\"\"))","v":""},null,null,null,228,"コーチング心理学特論","東伏見","5001015415","01","秋学期","木","５時限",2,"堀野　博幸","専門講義"]
[null,null,0,"0",0,"0",{"$f":"IF(L251=\"\",\"\",IF(D251=56300,COUNTIF(D$19:D251,D251),\"\"))","v":""},null,null,null,229,"スポーツ経営学演習（２）Ｂ","東伏見","5001014100","02","秋学期","木","６時限",2,"木村　和彦","専門演習"]
[null,null,0,"0",0,"0",{"$f":"IF(L252=\"\",\"\",IF(D252=56300,COUNTIF(D$19:D252,D252),\"\"))","v":""},null,null,null,230,"スポーツ組織論演習（２）Ｂ","東伏見","5001014122","02","秋学期","木","６時限",2,"作野　誠一","専門演習"]
[null,null,0,"0",0,"0",{"$f":"IF(L253=\"\",\"\",IF(D253=56300,COUNTIF(D$19:D253,D253),\"\"))","v":""},null,null,null,231,"バイオメカニクス演習（２）Ｂ","所沢","5001014342","02","秋学期","木","６時限",2,"矢内　利政","専門演習"]
[null,null,0,"0",0,"0",{"$f":"IF(L254=\"\",\"\",IF(D254=56300,COUNTIF(D$19:D254,D254),\"\"))","v":""},null,null,null,232,"スポーツクラブマネジメント演習（１）Ｂ","早稲田","5001013600","02","秋学期","木","６時限",2,"間野　義之","専門演習"]
[null,null,0,"0",0,"0",{"$f":"IF(L255=\"\",\"\",IF(D255=56300,COUNTIF(D$19:D255,D255),\"\"))","v":""},null,null,null,233,"健康スポーツマネジメント演習（１）Ｂ","早稲田","5001013700","02","秋学期","木","６時限",2,"中村　好男","専門演習"]
[null,null,0,"0",0,"0",{"$f":"IF(L256=\"\",\"\",IF(D256=56300,COUNTIF(D$19:D256,D256),\"\"))","v":""},null,null,null,234,"介護予防マネジメント演習（１）Ｂ","早稲田","5001013800","02","秋学期","木","６時限",2,"岡　浩一朗","専門演習"]
[null,null,0,"0",0,"0",{"$f":"IF(L257=\"\",\"\",IF(D257=56300,COUNTIF(D$19:D257,D257),\"\"))","v":""},null,null,null,235,"ヘルスプロモーション演習","早稲田","5001015728","01","秋学期","木","７時限",2,"岡　浩一朗","専門講義"]
[null,null,0,"0",0,"0",{"$f":"IF(L258=\"\",\"\",IF(D258=56300,COUNTIF(D$19:D258,D258),\"\"))","v":""},null,null,null,236,"スポーツビジネスマネジメント論演習（１）Ｂ","東伏見","5001013110","02","秋学期","金","１時限",2,"原田　宗彦","専門演習"]
[null,null,0,"0",0,"0",{"$f":"IF(L259=\"\",\"\",IF(D259=56300,COUNTIF(D$19:D259,D259),\"\"))","v":""},null,null,null,237,"スポーツビジネスマーケティング演習（１）Ｂ","東伏見","5001013126","02","秋学期","金","１時限",2,"松岡　宏高","専門演習"]
[null,null,0,"0",0,"0",{"$f":"IF(L260=\"\",\"\",IF(D260=56300,COUNTIF(D$19:D260,D260),\"\"))","v":""},null,null,null,238,"スポーツ健康管理学演習（１）Ｂ","所沢","5001013220","02","秋学期","金","１時限",2,"坂本　静男","専門演習"]
[null,null,0,"0",0,"0",{"$f":"IF(L261=\"\",\"\",IF(D261=56300,COUNTIF(D$19:D261,D261),\"\"))","v":""},null,null,null,239,"走運動・コーチング科学演習（１）Ｂ","所沢","5001013400","02","秋学期","金","１時限",2,"礒　繁雄","専門演習"]
[null,null,0,"0",0,"0",{"$f":"IF(L262=\"\",\"\",IF(D262=56300,COUNTIF(D$19:D262,D262),\"\"))","v":""},null,null,null,240,"トップスポーツコーチング科学演習（１）Ｂ","所沢","5001013405","02","秋学期","金","１時限",2,"奥野　景介","専門演習"]
[null,null,0,"0",0,"0",{"$f":"IF(L263=\"\",\"\",IF(D263=56300,COUNTIF(D$19:D263,D263),\"\"))","v":""},null,null,null,241,"スポーツビジネスマネジメント論演習（２）Ｂ","東伏見","5001014110","02","秋学期","金","２時限",2,"原田　宗彦","専門演習"]
[null,null,0,"0",0,"0",{"$f":"IF(L264=\"\",\"\",IF(D264=56300,COUNTIF(D$19:D264,D264),\"\"))","v":""},null,null,null,242,"スポーツビジネスマーケティング演習（２）Ｂ","東伏見","5001014126","02","秋学期","金","２時限",2,"松岡　宏高","専門演習"]
[null,null,0,"0",0,"0",{"$f":"IF(L265=\"\",\"\",IF(D265=56300,COUNTIF(D$19:D265,D265),\"\"))","v":""},null,null,null,243,"予防医学演習（２）Ｂ","所沢","5001014236","02","秋学期","金","２時限",2,"鈴木　克彦","専門演習"]
[null,null,0,"0",0,"0",{"$f":"IF(L266=\"\",\"\",IF(D266=56300,COUNTIF(D$19:D266,D266),\"\"))","v":""},null,null,null,244,"スポーツ栄養学特論","所沢","5001015310","01","秋学期","金","２時限",2,"田口　素子","専門講義"]
[null,null,0,"0",0,"0",{"$f":"IF(L267=\"\",\"\",IF(D267=56300,COUNTIF(D$19:D267,D267),\"\"))","v":""},null,null,null,245,"武道のコーチング学演習（１）B","所沢","5001013435","02","秋学期","金","２時限",2,"射手矢　岬","専門演習"]
[null,null,0,"0",0,"0",{"$f":"IF(L268=\"\",\"\",IF(D268=56300,COUNTIF(D$19:D268,D268),\"\"))","v":""},null,null,null,246,"運動器発育・発達特論","所沢","5001015220","01","秋学期","金","３時限",2,"鳥居　俊","専門講義"]
[null,null,0,"0",0,"0",{"$f":"IF(L269=\"\",\"\",IF(D269=56300,COUNTIF(D$19:D269,D269),\"\"))","v":""},null,null,null,247,"スポーツ情報処理演習（１）Ｂ","所沢","5001013335","02","秋学期","金","３時限",2,"誉田　雅彰","専門演習"]
[null,null,0,"0",0,"0",{"$f":"IF(L270=\"\",\"\",IF(D270=56300,COUNTIF(D$19:D270,D270),\"\"))","v":""},null,null,null,248,"トレーニング科学演習（１）Ｂ","東伏見","5001013420","02","秋学期","金","３時限",2,"谷中　拓哉","専門演習"]
[null,null,0,"0",0,"0",{"$f":"IF(L271=\"\",\"\",IF(D271=56300,COUNTIF(D$19:D271,D271),\"\"))","v":""},null,null,null,249,"武道のコーチング学演習（２）B","所沢","5001014435","02","秋学期","金","３時限",2,"射手矢　岬","専門演習"]
[null,null,0,"0",0,"0",{"$f":"IF(L272=\"\",\"\",IF(D272=56300,COUNTIF(D$19:D272,D272),\"\"))","v":""},null,null,null,250,"体育科教育学演習（１）Ｂ","所沢","5001013032","02","秋学期","金","４時限",2,"吉永　武史","専門演習"]
[null,null,0,"0",0,"0",{"$f":"IF(L273=\"\",\"\",IF(D273=56300,COUNTIF(D$19:D273,D273),\"\"))","v":""},null,null,null,251,"スポーツ健康管理学演習（２）Ｂ","所沢","5001014220","02","秋学期","金","４時限",2,"坂本　静男","専門演習"]
[null,null,0,"0",0,"0",{"$f":"IF(L274=\"\",\"\",IF(D274=56300,COUNTIF(D$19:D274,D274),\"\"))","v":""},null,null,null,252,"運動器スポーツ医学演習（２）Ｂ","所沢","5001014225","02","秋学期","金","４時限",2,"鳥居　俊","専門演習"]
[null,null,0,"0",0,"0",{"$f":"IF(L275=\"\",\"\",IF(D275=56300,COUNTIF(D$19:D275,D275),\"\"))","v":""},null,null,null,253,"スポーツ情報処理演習（２）Ｂ","所沢","5001014335","02","秋学期","金","４時限",2,"誉田　雅彰","専門演習"]
[null,null,0,"0",0,"0",{"$f":"IF(L276=\"\",\"\",IF(D276=56300,COUNTIF(D$19:D276,D276),\"\"))","v":""},null,null,null,254,"体育科教育学演習（２）Ｂ","所沢","5001014032","02","秋学期","金","５時限",2,"吉永　武史","専門演習"]
[null,null,0,"0",0,"0",{"$f":"IF(L277=\"\",\"\",IF(D277=56300,COUNTIF(D$19:D277,D277),\"\"))","v":""},null,null,null,255,"コーチング心理学演習（１）Ｂ","東伏見","5001013415","02","秋学期","金","４時限",2,"堀野　博幸","専門演習"]
[null,null,0,{"$f":"IF(C278,56300,\"0\")","v":"0"},{"$f":"D278*S278","v":0},{"$f":"IF(AND(C278=-1,U278=\"専門演習\"),35000,\"0\")","v":"0"},{"$f":"IF(L278=\"\",\"\",IF(D278=56300,COUNTIF(D$19:D278,D278),\"\"))","v":""},null,null,null,256,"冬季スポーツコーチング学特論","所沢",5001015440,"01","秋学期","金","４時限～５時限",2,"藤田　善也","専門演習"]
[null,null,0,"0",0,"0",{"$f":"IF(L279=\"\",\"\",IF(D279=56300,COUNTIF(D$19:D279,D279),\"\"))","v":""},null,null,null,257,"コーチング心理学演習（２）Ｂ","東伏見","5001014415","02","秋学期","金","５時限",2,"堀野　博幸","専門演習"]
[null,null,0,"0",0,"0",{"$f":"IF(L280=\"\",\"\",IF(D280=56300,COUNTIF(D$19:D280,D280),\"\"))","v":""},null,null,null,258,"Sport in Society","東伏見","5001019201","01","秋クォーター","月","２時限",2,"トンプソン　リー　Ａ．","専門講義"]
[null,null,0,"0",0,"0",{"$f":"IF(L281=\"\",\"\",IF(D281=56300,COUNTIF(D$19:D281,D281),\"\"))","v":""},null,null,null,259,"コーチ学特論","所沢","5001015405","01","秋クォーター","月","４時限～５時限",2,"礒　繁雄・射手矢　岬・奥野　景介・杉山　千鶴・土屋　純・堀野　博幸・松井　泰二・倉石　平","専門講義"]
[null,null,0,"0",0,"0",{"$f":"IF(L282=\"\",\"\",IF(D282=56300,COUNTIF(D$19:D282,D282),\"\"))","v":""},null,null,null,260,"介護予防演習","早稲田","5001015810","01","秋クォーター","月","６時限～７時限",2,"岡　浩一朗・河合　恒","専門演習"]
[null,null,0,"0",0,"0",{"$f":"IF(L283=\"\",\"\",IF(D283=56300,COUNTIF(D$19:D283,D283),\"\"))","v":""},null,null,null,261,"Motor Control in Sports","所沢","5001019103","01","秋クォーター","火","１時限～２時限",2,"彼末　一之","専門講義"]
[null,null,0,{"$f":"IF(C284,56300,\"0\")","v":"0"},{"$f":"D284*S284","v":0},{"$f":"IF(AND(C284=-1,U284=\"専門演習\"),35000,\"0\")","v":"0"},{"$f":"IF(L284=\"\",\"\",IF(D284=56300,COUNTIF(D$19:D284,D284),\"\"))","v":""},null,null,null,262,"Contemporary Issues in Sports","東伏見","5001019216","01","秋クォーター","火","１時限～２時限",2,"ウォン　ドナ","専門講義"]
[null,null,0,{"$f":"IF(C285,56300,\"0\")","v":"0"},{"$f":"D285*S285","v":0},{"$f":"IF(AND(C285=-1,U285=\"専門演習\"),35000,\"0\")","v":"0"},{"$f":"IF(L285=\"\",\"\",IF(D285=56300,COUNTIF(D$19:D285,D285),\"\"))","v":""},null,null,null,263,"コンディショニングデザイン特論","所沢","5001015260","01","秋クオーター","火","１～２時限",2,"平山　邦明","専門講義"]
[null,null,0,"0",0,"0",{"$f":"IF(L286=\"\",\"\",IF(D286=56300,COUNTIF(D$19:D286,D286),\"\"))","v":""},null,null,null,264,"Sport and Social Movements","東伏見","5001015917","01","秋クォーター","水","１時限～２時限",2,"ＨＯＲＮＥ　ＪＯＨＮ　Ｄ．","専門講義"]
[null,null,0,"0",0,"0",{"$f":"IF(L287=\"\",\"\",IF(D287=56300,COUNTIF(D$19:D287,D287),\"\"))","v":""},null,null,null,265,"Research design and methods 1: best practice in project development","所沢","5001019113","01","秋クォーター","水","1時限～2時限",2,"アニア　マイケル","専門講義"]
[null,null,0,"0",0,"0",{"$f":"IF(L288=\"\",\"\",IF(D288=56300,COUNTIF(D$19:D288,D288),\"\"))","v":""},null,null,null,266,"アスレティックトレーニング特論","東伏見","5001015248","01","秋クォーター","木","１時限～２時限",2,"広瀬　統一","専門講義"]
[null,null,0,{"$f":"IF(C289,56300,\"0\")","v":"0"},{"$f":"D289*S289","v":0},"0",{"$f":"IF(L289=\"\",\"\",IF(D289=56300,COUNTIF(D$19:D289,D289),\"\"))","v":""},null,null,null,267,"Technical writing for Health & Exercise Science","所沢","5001019120","01","秋クォーター","木","１時限～２時限",2,"杉本　大輔","専門講義"]
[null,null,0,"0",0,"0",{"$f":"IF(L290=\"\",\"\",IF(D290=56300,COUNTIF(D$19:D290,D290),\"\"))","v":""},null,null,null,268,"Fundamentals of Life Science","所沢","5001019100","01","秋クォーター","木","３時限～４時限",2,"秋本　崇之","専門講義"]
[null,null,0,"0",0,"0",{"$f":"IF(L291=\"\",\"\",IF(D291=56300,COUNTIF(D$19:D291,D291),\"\"))","v":""},null,null,null,269,"Sport Management (Seminar 2) A","東伏見","5001013845","01","秋クォーター","木","４時限～５時限",2,"松岡　宏高・原田　宗彦・佐藤　晋太郎・ウォン　ドナ","専門演習"]
[null,null,0,"0",0,"0",{"$f":"IF(L292=\"\",\"\",IF(D292=56300,COUNTIF(D$19:D292,D292),\"\"))","v":""},null,null,null,270,"Health and Sports Epidemiology","所沢","5001019111","01","秋クォーター","金","４時限",1,"澤田　亨","専門講義"]
[null,null,0,"0",0,"0",{"$f":"IF(L293=\"\",\"\",IF(D293=56300,COUNTIF(D$19:D293,D293),\"\"))","v":""},null,null,null,271,"Health and exercise science 1 (Seminar 2) A","所沢","5001013841","01","秋クォーター","土","４時限～５時限",2,"秋本　崇之・澤田　亨・西多　昌規・宮下　政司・アニア　マイケル","専門演習"]
[null,null,0,"0",0,{"$f":"IF(AND(C294=-1,U294=\"専門演習\"),35000,\"0\")","v":"0"},{"$f":"IF(L294=\"\",\"\",IF(D294=56300,COUNTIF(D$19:D294,D294),\"\"))","v":""},null,null,null,272,"Health and exercise science 2 (Seminar 2) A","所沢","5001013843","01","秋クォーター","土","６時限～７時限",2,"宝田　雄大・彼末　一之・正木　宏明・矢内　利政・川上　泰雄・杉本　大輔","専門演習"]
[null,null,0,{"$f":"IF(C295,56300,\"0\")","v":"0"},{"$f":"D295*S295","v":0},"0",{"$f":"IF(L295=\"\",\"\",IF(D295=56300,COUNTIF(D$19:D295,D295),\"\"))","v":""},null,null,null,273,"Global Development of the Sport Industry","東伏見","5001019203","01","冬クォーター","月","１時限～２時限",2,"松岡　宏高","専門講義"]
[null,null,0,{"$f":"IF(C296,56300,\"0\")","v":"0"},{"$f":"D296*S296","v":0},{"$f":"IF(AND(C296=-1,U296=\"専門演習\"),35000,\"0\")","v":"0"},{"$f":"IF(L296=\"\",\"\",IF(D296=56300,COUNTIF(D$19:D296,D296),\"\"))","v":""},null,null,null,274,"Qualitative Research in Sport Management","東伏見","5001019218","01","冬クォーター","月","３時限～４時限",2,"ウォン　ドナ","専門講義"]
[null,null,0,"0",0,"0",{"$f":"IF(L297=\"\",\"\",IF(D297=56300,COUNTIF(D$19:D297,D297),\"\"))","v":""},null,null,null,275,"Physical Activity and Health Physiology","所沢","5001019102","01","冬クォーター","火","１時限～２時限",2,"宮下　政司","専門講義"]
[null,null,0,"0",0,"0",{"$f":"IF(L298=\"\",\"\",IF(D298=56300,COUNTIF(D$19:D298,D298),\"\"))","v":""},null,null,null,276,"Brain Function for Motivating Action","所沢","5001019104","01","冬クォーター","火","１時限～２時限",2,"宝田　雄大・野崎　大地","専門講義"]
[null,null,0,"0",0,"0",{"$f":"IF(L299=\"\",\"\",IF(D299=56300,COUNTIF(D$19:D299,D299),\"\"))","v":""},null,null,null,277,"Research design and methods 2: understanding quantitative and qualitative analysis and reporting","所沢","5001019114","01","冬クォーター","水","１時限～２時限",2,"アニア　マイケル","専門講義"]
[null,null,0,{"$f":"IF(C300,56300,\"0\")","v":"0"},{"$f":"D300*S300","v":0},{"$f":"IF(AND(C300=-1,U300=\"専門演習\"),35000,\"0\")","v":"0"},{"$f":"IF(L300=\"\",\"\",IF(D300=56300,COUNTIF(D$19:D300,D300),\"\"))","v":""},null,null,null,278,"Sport Communication and Promotion","東伏見","5001019220","01","冬クォーター","水","４時限～５時限",2,"佐藤　晋太郎","専門講義"]
[null,null,0,"0",0,"0",{"$f":"IF(L301=\"\",\"\",IF(D301=56300,COUNTIF(D$19:D301,D301),\"\"))","v":""},null,null,null,279,"Sports Rehabilitation","所沢","5001019121","01","冬クォーター","木","１時限～２時限",2,"杉本　大輔","専門講義"]
[null,null,0,"0",0,"0",{"$f":"IF(L302=\"\",\"\",IF(D302=56300,COUNTIF(D$19:D302,D302),\"\"))","v":""},null,null,null,280,"Sociological Studies of Sports Mega-Events","東伏見","5001019208","01","冬クォーター","木","３時限～４時限",2,"ＨＯＲＮＥ　ＪＯＨＮ　Ｄ．","専門講義"]
[null,null,0,"0",0,"0",{"$f":"IF(L303=\"\",\"\",IF(D303=56300,COUNTIF(D$19:D303,D303),\"\"))","v":""},null,null,null,281,"Sport Management (Seminar 2) B","東伏見","5001013845","02","冬クォーター","木","４時限～５時限",2,"松岡　宏高・原田　宗彦・佐藤　晋太郎・ウォン　ドナ","専門演習"]
[null,null,0,"0",0,"0",{"$f":"IF(L304=\"\",\"\",IF(D304=56300,COUNTIF(D$19:D304,D304),\"\"))","v":""},null,null,null,282,"Health and exercise science 1 (Seminar 2) B","所沢","5001013841","02","冬クォーター","土","４時限～５時限",2,"秋本　崇之・澤田　亨・西多　昌規・宮下　政司・アニア　マイケル","専門演習"]
[null,null,0,{"$f":"IF(C305,56300,\"0\")","v":"0"},{"$f":"D305*S305","v":0},"0",{"$f":"IF(L305=\"\",\"\",IF(D305=56300,COUNTIF(D$19:D305,D305),\"\"))","v":""},null,null,null,283,"Health and exercise science 2 (Seminar 2) B","所沢","5001013843","02","冬クォーター","土","６時限～７時限",2,"宝田　雄大・彼末　一之・正木　宏明・矢内　利政・川上　泰雄・杉本　大輔","専門演習"]
[null,null,0,"0",0,"0",{"$f":"IF(L306=\"\",\"\",IF(D306=56300,COUNTIF(D$19:D306,D306),\"\"))","v":""},null,null,null,284,"International Issues in Sport Management","東伏見","5001019221","01","集中講義（秋学期）","無","その他",2,"作野　誠一・ＦＩＬＯ　ＫＥＶＩＮ","専門講義"]
[null,null,0,"0",0,"0",{"$f":"IF(L307=\"\",\"\",IF(D307=56300,COUNTIF(D$19:D307,D307),\"\"))","v":""},null,null,null,285,"Sport Sponsorship","東伏見","5001019222","01","集中講義（秋学期）","無","その他",2,"松岡　宏高・ＵＨＲＩＣＨ　ＳＥＢＡＳＴＩＡＮ","専門講義"]
[null,null,-1]

{"sheet":"stepＣ履修希望科目（様式②）","index":2,"n_rows":36,"n_cols":11,"rows_kept":36,"cut":false,"hidden":false,"merged":[[0,8,0,9],[1,2,1,8],[22,8,23,10],[25,8,26,10],[27,0,27,1],[27,2,27,10],[19,1,19,3],[19,4,19,6],[19,7,19,9],[22,5,23,5],[22,6,23,6],[22,7,23,7],[25,4,26,4],[25,5,26,5],[25,6,26,6],[25,7,26,7],[3,8,3,10],[4,8,4,10],[5,8,5,10],[21,8,21,10],[24,8,24,10],[0,0,0,1],[4,6,4,7],[5,6,5,7],[21,0,26,1],[11,0,19,0],[2,2,2,7],[21,2,21,3],[22,2,22,3],[24,2,24,3],[25,2,25,3],[26,2,26,3],[22,4,23,4],[23,2,23,3],[3,6,3,7]]}
["様式②　",null,null,null,null,null,null,null,"※受験番号"]
[null,null,"2020年度 大学院スポーツ科学研究科\n履修希望科目用紙",null,null,null,null,null,null,null,"※受験番号は無記入のこと"]
[]
[null,null,null,null,null,null,"出願区分\n（不要なものを削除→）",null,"一般科目等履修生　・　委託履修生"]
[null,"ﾌﾘｶﾞﾅ",{"$f":"T(時間割一覧!O4)","v":"ワセダ　タロウ"},null,null,null,"携帯電話",null,{"$f":"T(時間割一覧!U3)","v":"090-9999-9999"}]
[null,"氏名",{"$f":"T(時間割一覧!O3)","v":"早稲田　太郎"},null,null,null,"自宅電話",null,{"$f":"T(時間割一覧!U4)","v":"03-9999-9999"}]
[]
[]
[null,"聴講科目"]
[null,"＜以下整理番号と科目名は「聴講理由書」と連動させること＞",null,null,null,null,null,null,"※履修上限単位数：年間8単位まで"]
[null,"整理\n番号","科目名","科目\nクラス\nコード","キャンパス","実施科目キー","学期","曜日","時限","単位数","担当教員"]
["聴講科目",{"$f":"IF(ROW(A1)>MAX(時間割一覧!$G:$G),\"\",INDEX(時間割一覧!$K:$T,MATCH(ROW(A1),時間割一覧!$G:$G,0),COLUMN(A1)))","v":""},{"$f":"IF(ROW(B1)>MAX(時間割一覧!$G:$G),\"\",INDEX(時間割一覧!$K:$T,MATCH(ROW(B1),時間割一覧!$G:$G,0),COLUMN(B1)))","v":""},{"$f":"IF(ROW(E1)>MAX(時間割一覧!$G:$G),\"\",INDEX(時間割一覧!$K:$T,MATCH(ROW(E1),時間割一覧!$G:$G,0),COLUMN(E1)))","v":""},{"$f":"IF(ROW(C1)>MAX(時間割一覧!$G:$G),\"\",INDEX(時間割一覧!$K:$T,MATCH(ROW(C1),時間割一覧!$G:$G,0),COLUMN(C1)))","v":""},{"$f":"IF(ROW(D1)>MAX(時間割一覧!$G:$G),\"\",INDEX(時間割一覧!$K:$T,MATCH(ROW(D1),時間割一覧!$G:$G,0),COLUMN(D1)))","v":""},{"$f":"IF(ROW(F1)>MAX(時間割一覧!$G:$G),\"\",INDEX(時間割一覧!$K:$T,MATCH(ROW(F1),時間割一覧!$G:$G,0),COLUMN(F1)))","v":""},{"$f":"IF(ROW(G1)>MAX(時間割一覧!$G:$G),\"\",INDEX(時間割一覧!$K:$T,MATCH(ROW(G1),時間割一覧!$G:$G,0),COLUMN(G1)))","v":""},{"$f":"IF(ROW(H1)>MAX(時間割一覧!$G:$G),\"\",INDEX(時間割一覧!$K:$T,MATCH(ROW(H1),時間割一覧!$G:$G,0),COLUMN(H1)))","v":""},{"$f":"IF(ROW(I1)>MAX(時間割一覧!$G:$G),\"\",INDEX(時間割一覧!$K:$T,MATCH(ROW(I1),時間割一覧!$G:$G,0),COLUMN(I1)))","v":""},{"$f":"IF(ROW(J1)>MAX(時間割一覧!$G:$G),\"\",INDEX(時間割一覧!$K:$T,MATCH(ROW(J1),時間割一覧!$G:$G,0),COLUMN(J1)))","v":""}]
[null,{"$f":"IF(ROW(A2)>MAX(時間割一覧!$G:$G),\"\",INDEX(時間割一覧!$K:$T,MATCH(ROW(A2),時間割一覧!$G:$G,0),COLUMN(A2)))","v":""},{"$f":"IF(ROW(B2)>MAX(時間割一覧!$G:$G),\"\",INDEX(時間割一覧!$K:$T,MATCH(ROW(B2),時間割一覧!$G:$G,0),COLUMN(B2)))","v":""},{"$f":"IF(ROW(E2)>MAX(時間割一覧!$G:$G),\"\",INDEX(時間割一覧!$K:$T,MATCH(ROW(E2),時間割一覧!$G:$G,0),COLUMN(E2)))","v":""},{"$f":"IF(ROW(C2)>MAX(時間割一覧!$G:$G),\"\",INDEX(時間割一覧!$K:$T,MATCH(ROW(C2),時間割一覧!$G:$G,0),COLUMN(C2)))","v":""},{"$f":"IF(ROW(D2)>MAX(時間割一覧!$G:$G),\"\",INDEX(時間割一覧!$K:$T,MATCH(ROW(D2),時間割一覧!$G:$G,0),COLUMN(D2)))","v":""},{"$f":"IF(ROW(F2)>MAX(時間割一覧!$G:$G),\"\",INDEX(時間割一覧!$K:$T,MATCH(ROW(F2),時間割一覧!$G:$G,0),COLUMN(F2)))","v":""},{"$f":"IF(ROW(G2)>MAX(時間割一覧!$G:$G),\"\",INDEX(時間割一覧!$K:$T,MATCH(ROW(G2),時間割一覧!$G:$G,0),COLUMN(G2)))","v":""},{"$f":"IF(ROW(H2)>MAX(時間割一覧!$G:$G),\"\",INDEX(時間割一覧!$K:$T,MATCH(ROW(H2),時間割一覧!$G:$G,0),COLUMN(H2)))","v":""},{"$f":"IF(ROW(I2)>MAX(時間割一覧!$G:$G),\"\",INDEX(時間割一覧!$K:$T,MATCH(ROW(I2),時間割一覧!$G:$G,0),COLUMN(I2)))","v":""},{"$f":"IF(ROW(J2)>MAX(時間割一覧!$G:$G),\"\",INDEX(時間割一覧!$K:$T,MATCH(ROW(J2),時間割一覧!$G:$G,0),COLUMN(J2)))","v":""}]
[null,{"$f":"IF(ROW(A3)>MAX(時間割一覧!$G:$G),\"\",INDEX(時間割一覧!$K:$T,MATCH(ROW(A3),時間割一覧!$G:$G,0),COLUMN(A3)))","v":""},{"$f":"IF(ROW(B3)>MAX(時間割一覧!$G:$G),\"\",INDEX(時間割一覧!$K:$T,MATCH(ROW(B3),時間割一覧!$G:$G,0),COLUMN(B3)))","v":""},{"$f":"IF(ROW(E3)>MAX(時間割一覧!$G:$G),\"\",INDEX(時間割一覧!$K:$T,MATCH(ROW(E3),時間割一覧!$G:$G,0),COLUMN(E3)))","v":""},{"$f":"IF(ROW(C3)>MAX(時間割一覧!$G:$G),\"\",INDEX(時間割一覧!$K:$T,MATCH(ROW(C3),時間割一覧!$G:$G,0),COLUMN(C3)))","v":""},{"$f":"IF(ROW(D3)>MAX(時間割一覧!$G:$G),\"\",INDEX(時間割一覧!$K:$T,MATCH(ROW(D3),時間割一覧!$G:$G,0),COLUMN(D3)))","v":""},{"$f":"IF(ROW(F3)>MAX(時間割一覧!$G:$G),\"\",INDEX(時間割一覧!$K:$T,MATCH(ROW(F3),時間割一覧!$G:$G,0),COLUMN(F3)))","v":""},{"$f":"IF(ROW(G3)>MAX(時間割一覧!$G:$G),\"\",INDEX(時間割一覧!$K:$T,MATCH(ROW(G3),時間割一覧!$G:$G,0),COLUMN(G3)))","v":""},{"$f":"IF(ROW(H3)>MAX(時間割一覧!$G:$G),\"\",INDEX(時間割一覧!$K:$T,MATCH(ROW(H3),時間割一覧!$G:$G,0),COLUMN(H3)))","v":""},{"$f":"IF(ROW(I3)>MAX(時間割一覧!$G:$G),\"\",INDEX(時間割一覧!$K:$T,MATCH(ROW(I3),時間割一覧!$G:$G,0),COLUMN(I3)))","v":""},{"$f":"IF(ROW(J3)>MAX(時間割一覧!$G:$G),\"\",INDEX(時間割一覧!$K:$T,MATCH(ROW(J3),時間割一覧!$G:$G,0),COLUMN(J3)))","v":""}]
[null,{"$f":"IF(ROW(A4)>MAX(時間割一覧!$G:$G),\"\",INDEX(時間割一覧!$K:$T,MATCH(ROW(A4),時間割一覧!$G:$G,0),COLUMN(A4)))","v":""},{"$f":"IF(ROW(B4)>MAX(時間割一覧!$G:$G),\"\",INDEX(時間割一覧!$K:$T,MATCH(ROW(B4),時間割一覧!$G:$G,0),COLUMN(B4)))","v":""},{"$f":"IF(ROW(E4)>MAX(時間割一覧!$G:$G),\"\",INDEX(時間割一覧!$K:$T,MATCH(ROW(E4),時間割一覧!$G:$G,0),COLUMN(E4)))","v":""},{"$f":"IF(ROW(C4)>MAX(時間割一覧!$G:$G),\"\",INDEX(時間割一覧!$K:$T,MATCH(ROW(C4),時間割一覧!$G:$G,0),COLUMN(C4)))","v":""},{"$f":"IF(ROW(D4)>MAX(時間割一覧!$G:$G),\"\",INDEX(時間割一覧!$K:$T,MATCH(ROW(D4),時間割一覧!$G:$G,0),COLUMN(D4)))","v":""},{"$f":"IF(ROW(F4)>MAX(時間割一覧!$G:$G),\"\",INDEX(時間割一覧!$K:$T,MATCH(ROW(F4),時間割一覧!$G:$G,0),COLUMN(F4)))","v":""},{"$f":"IF(ROW(G4)>MAX(時間割一覧!$G:$G),\"\",INDEX(時間割一覧!$K:$T,MATCH(ROW(G4),時間割一覧!$G:$G,0),COLUMN(G4)))","v":""},{"$f":"IF(ROW(H4)>MAX(時間割一覧!$G:$G),\"\",INDEX(時間割一覧!$K:$T,MATCH(ROW(H4),時間割一覧!$G:$G,0),COLUMN(H4)))","v":""},{"$f":"IF(ROW(I4)>MAX(時間割一覧!$G:$G),\"\",INDEX(時間割一覧!$K:$T,MATCH(ROW(I4),時間割一覧!$G:$G,0),COLUMN(I4)))","v":""},{"$f":"IF(ROW(J4)>MAX(時間割一覧!$G:$G),\"\",INDEX(時間割一覧!$K:$T,MATCH(ROW(J4),時間割一覧!$G:$G,0),COLUMN(J4)))","v":""}]
[null,{"$f":"IF(ROW(A5)>MAX(時間割一覧!$G:$G),\"\",INDEX(時間割一覧!$K:$T,MATCH(ROW(A5),時間割一覧!$G:$G,0),COLUMN(A5)))","v":""},{"$f":"IF(ROW(B5)>MAX(時間割一覧!$G:$G),\"\",INDEX(時間割一覧!$K:$T,MATCH(ROW(B5),時間割一覧!$G:$G,0),COLUMN(B5)))","v":""},{"$f":"IF(ROW(E5)>MAX(時間割一覧!$G:$G),\"\",INDEX(時間割一覧!$K:$T,MATCH(ROW(E5),時間割一覧!$G:$G,0),COLUMN(E5)))","v":""},{"$f":"IF(ROW(C5)>MAX(時間割一覧!$G:$G),\"\",INDEX(時間割一覧!$K:$T,MATCH(ROW(C5),時間割一覧!$G:$G,0),COLUMN(C5)))","v":""},{"$f":"IF(ROW(D5)>MAX(時間割一覧!$G:$G),\"\",INDEX(時間割一覧!$K:$T,MATCH(ROW(D5),時間割一覧!$G:$G,0),COLUMN(D5)))","v":""},{"$f":"IF(ROW(F5)>MAX(時間割一覧!$G:$G),\"\",INDEX(時間割一覧!$K:$T,MATCH(ROW(F5),時間割一覧!$G:$G,0),COLUMN(F5)))","v":""},{"$f":"IF(ROW(G5)>MAX(時間割一覧!$G:$G),\"\",INDEX(時間割一覧!$K:$T,MATCH(ROW(G5),時間割一覧!$G:$G,0),COLUMN(G5)))","v":""},{"$f":"IF(ROW(H5)>MAX(時間割一覧!$G:$G),\"\",INDEX(時間割一覧!$K:$T,MATCH(ROW(H5),時間割一覧!$G:$G,0),COLUMN(H5)))","v":""},{"$f":"IF(ROW(I5)>MAX(時間割一覧!$G:$G),\"\",INDEX(時間割一覧!$K:$T,MATCH(ROW(I5),時間割一覧!$G:$G,0),COLUMN(I5)))","v":""},{"$f":"IF(ROW(J5)>MAX(時間割一覧!$G:$G),\"\",INDEX(時間割一覧!$K:$T,MATCH(ROW(J5),時間割一覧!$G:$G,0),COLUMN(J5)))","v":""}]
[null,{"$f":"IF(ROW(A6)>MAX(時間割一覧!$G:$G),\"\",INDEX(時間割一覧!$K:$T,MATCH(ROW(A6),時間割一覧!$G:$G,0),COLUMN(A6)))","v":""},{"$f":"IF(ROW(B6)>MAX(時間割一覧!$G:$G),\"\",INDEX(時間割一覧!$K:$T,MATCH(ROW(B6),時間割一覧!$G:$G,0),COLUMN(B6)))","v":""},{"$f":"IF(ROW(E6)>MAX(時間割一覧!$G:$G),\"\",INDEX(時間割一覧!$K:$T,MATCH(ROW(E6),時間割一覧!$G:$G,0),COLUMN(E6)))","v":""},{"$f":"IF(ROW(C6)>MAX(時間割一覧!$G:$G),\"\",INDEX(時間割一覧!$K:$T,MATCH(ROW(C6),時間割一覧!$G:$G,0),COLUMN(C6)))","v":""},{"$f":"IF(ROW(D6)>MAX(時間割一覧!$G:$G),\"\",INDEX(時間割一覧!$K:$T,MATCH(ROW(D6),時間割一覧!$G:$G,0),COLUMN(D6)))","v":""},{"$f":"IF(ROW(F6)>MAX(時間割一覧!$G:$G),\"\",INDEX(時間割一覧!$K:$T,MATCH(ROW(F6),時間割一覧!$G:$G,0),COLUMN(F6)))","v":""},{"$f":"IF(ROW(G6)>MAX(時間割一覧!$G:$G),\"\",INDEX(時間割一覧!$K:$T,MATCH(ROW(G6),時間割一覧!$G:$G,0),COLUMN(G6)))","v":""},{"$f":"IF(ROW(H6)>MAX(時間割一覧!$G:$G),\"\",INDEX(時間割一覧!$K:$T,MATCH(ROW(H6),時間割一覧!$G:$G,0),COLUMN(H6)))","v":""},{"$f":"IF(ROW(I6)>MAX(時間割一覧!$G:$G),\"\",INDEX(時間割一覧!$K:$T,MATCH(ROW(I6),時間割一覧!$G:$G,0),COLUMN(I6)))","v":""},{"$f":"IF(ROW(J6)>MAX(時間割一覧!$G:$G),\"\",INDEX(時間割一覧!$K:$T,MATCH(ROW(J6),時間割一覧!$G:$G,0),COLUMN(J6)))","v":""}]
[null,{"$f":"IF(ROW(A7)>MAX(時間割一覧!$G:$G),\"\",INDEX(時間割一覧!$K:$T,MATCH(ROW(A7),時間割一覧!$G:$G,0),COLUMN(A7)))","v":""},{"$f":"IF(ROW(B7)>MAX(時間割一覧!$G:$G),\"\",INDEX(時間割一覧!$K:$T,MATCH(ROW(B7),時間割一覧!$G:$G,0),COLUMN(B7)))","v":""},{"$f":"IF(ROW(E7)>MAX(時間割一覧!$G:$G),\"\",INDEX(時間割一覧!$K:$T,MATCH(ROW(E7),時間割一覧!$G:$G,0),COLUMN(E7)))","v":""},{"$f":"IF(ROW(C7)>MAX(時間割一覧!$G:$G),\"\",INDEX(時間割一覧!$K:$T,MATCH(ROW(C7),時間割一覧!$G:$G,0),COLUMN(C7)))","v":""},{"$f":"IF(ROW(D7)>MAX(時間割一覧!$G:$G),\"\",INDEX(時間割一覧!$K:$T,MATCH(ROW(D7),時間割一覧!$G:$G,0),COLUMN(D7)))","v":""},{"$f":"IF(ROW(F7)>MAX(時間割一覧!$G:$G),\"\",INDEX(時間割一覧!$K:$T,MATCH(ROW(F7),時間割一覧!$G:$G,0),COLUMN(F7)))","v":""},{"$f":"IF(ROW(G7)>MAX(時間割一覧!$G:$G),\"\",INDEX(時間割一覧!$K:$T,MATCH(ROW(G7),時間割一覧!$G:$G,0),COLUMN(G7)))","v":""},{"$f":"IF(ROW(H7)>MAX(時間割一覧!$G:$G),\"\",INDEX(時間割一覧!$K:$T,MATCH(ROW(H7),時間割一覧!$G:$G,0),COLUMN(H7)))","v":""},{"$f":"IF(ROW(I7)>MAX(時間割一覧!$G:$G),\"\",INDEX(時間割一覧!$K:$T,MATCH(ROW(I7),時間割一覧!$G:$G,0),COLUMN(I7)))","v":""},{"$f":"IF(ROW(J7)>MAX(時間割一覧!$G:$G),\"\",INDEX(時間割一覧!$K:$T,MATCH(ROW(J7),時間割一覧!$G:$G,0),COLUMN(J7)))","v":""}]
[null,{"$f":"IF(ROW(A8)>MAX(時間割一覧!$G:$G),\"\",INDEX(時間割一覧!$K:$T,MATCH(ROW(A8),時間割一覧!$G:$G,0),COLUMN(A8)))","v":""},{"$f":"IF(ROW(B8)>MAX(時間割一覧!$G:$G),\"\",INDEX(時間割一覧!$K:$T,MATCH(ROW(B8),時間割一覧!$G:$G,0),COLUMN(B8)))","v":""},{"$f":"IF(ROW(E8)>MAX(時間割一覧!$G:$G),\"\",INDEX(時間割一覧!$K:$T,MATCH(ROW(E8),時間割一覧!$G:$G,0),COLUMN(E8)))","v":""},{"$f":"IF(ROW(C8)>MAX(時間割一覧!$G:$G),\"\",INDEX(時間割一覧!$K:$T,MATCH(ROW(C8),時間割一覧!$G:$G,0),COLUMN(C8)))","v":""},{"$f":"IF(ROW(D8)>MAX(時間割一覧!$G:$G),\"\",INDEX(時間割一覧!$K:$T,MATCH(ROW(D8),時間割一覧!$G:$G,0),COLUMN(D8)))","v":""},{"$f":"IF(ROW(F8)>MAX(時間割一覧!$G:$G),\"\",INDEX(時間割一覧!$K:$T,MATCH(ROW(F8),時間割一覧!$G:$G,0),COLUMN(F8)))","v":""},{"$f":"IF(ROW(G8)>MAX(時間割一覧!$G:$G),\"\",INDEX(時間割一覧!$K:$T,MATCH(ROW(G8),時間割一覧!$G:$G,0),COLUMN(G8)))","v":""},{"$f":"IF(ROW(H8)>MAX(時間割一覧!$G:$G),\"\",INDEX(時間割一覧!$K:$T,MATCH(ROW(H8),時間割一覧!$G:$G,0),COLUMN(H8)))","v":""},{"$f":"IF(ROW(I8)>MAX(時間割一覧!$G:$G),\"\",INDEX(時間割一覧!$K:$T,MATCH(ROW(I8),時間割一覧!$G:$G,0),COLUMN(I8)))","v":""},{"$f":"IF(ROW(J8)>MAX(時間割一覧!$G:$G),\"\",INDEX(時間割一覧!$K:$T,MATCH(ROW(J8),時間割一覧!$G:$G,0),COLUMN(J8)))","v":""}]
[null,"合計",null,null,{"$f":"SUM(時間割一覧!V7:V12)","v":0},null,null,{"$f":"SUM(J12:J19)","v":0}]
[]
["研究指導\n（委託履修生のみ)",null,"研究指導名称",null,"学期","曜日","時限","単位","指導教員名"]
[]
[null,null,"研究指導"]
[null,null,"研究指導名称",null,"学期","曜日","時限","単位","指導教員名"]
[]
[null,null,"研究指導"]
["備考欄"]
[null,null,"※聴講科目の合計単位数の上限は8単位まで。"]
[null,null,"※研究指導は「委託履修生」で研究指導教員が許可した場合のみ。"]
[]
["＜チェック欄＞※必ず記載した内容をチェック☑した上で、ご提出ください"]
[null,"時間割の重複がないか確認した"]
[null,"遠距離エラーにならないことを確認した"]
[null,"（外国籍の方、かつ、日本語科目の登録を希望する場合）日本語教育研究センターの出願・科目登録手続き方法について確認した"]
[null,"（外国籍の方のみ）日本語教育研究センターの科目を含め在留資格に必要な時間数を満たしていることを確認した"]