Workbook
Name 基幹理工学研究科: 入力タブ!#REF!
Name 研究科: 入力タブ!#REF!
Name 先進理工学研究科: 入力タブ!#REF!
Name 創造理工学研究科: 入力タブ!#REF!

Sheet How to use
A1: How to prepare the application documents with Data Entry Form (For "Kateinai" - Dissertation in English)
R3: as of July 14 ,2026
B4: * Data Entry Form and the templates of other application documents are available on the FSE website.
B5: Application for doctorate
A6: Entry of Data Entry Sheet | B6: (1) | C6: Please fill in the required fields marked in yellow on "Data Entry Sheet for submission".
C7: *Data entry is completed once all yellow parts are filled in.
A30: Preparing application documents | B30: (2) | C30: Prepare "Application for Doctoral Degree with Written Oath" and "Synopsis".
A57: Print | B57: (3) All documents should be printed single-sided. However, if the CV is two pages long, it should be printed double-sided.
A60: Sign/Seal
B61: (4)
A65: Pre-check | B65: (5) Check that the application documents meet the requirements based on the Checklist.
A67: Submission
B68: (6) Submit ①② (scanned PDF) + ③④ (Excel) to the Academic and Student Affairs Section by email by the application deadline (to: dissertation@list.waseda.jp)
B95: (7) Check the data of the application documents at the Academic and Student Affairs Section.
B97: (8) (Only after the completion of data check) Submit the original application documents ①, ②
B101: Application for final decision
A102: Preparing application documents | B102: (9) | C102: Prepare the doctoral dissertation and the Doctoral Dissertation Review Report.
C103: (*Only the cover page shall be prepared using the "Data Entry Sheet" at the time of application for doctorate.)
B143: (10) Prepare "Doctoral Dissertation, Synopsis, Doctoral Dissertation Review Report in PDF/A format", "Application to change dissertation title (*only if applicable)","Career Path Survey" and "Checklist".
A171: Print | B171: (11) Single-sided printing: "Doctoral Dissertation Review Report"
A174: Sign
B175: (12)
A179: Pre-check | B179: (13) Check that the application documents meet the requirements based on the Checklist.
A181: Submission | B181: (14) Submit the data [Principal referee]: ⑤Doctoral Dissertation Review Repot(scanned PDF),⑦Application to change dissertation title (*only if applicable)(Word), ⑧List of research achievements (*only if there is update from application for doctorate (Scanned PDF)),⑨Checklist(Word),⑪Application for final decision for doctoral dissertation (Excel) + ⑥3 PDF/A files (PDF/A format） [Applicant]: ⑩Career Path Survey(Excel) to the Academic and Student Affairs Section by email by the application deadline (to: dissertation@list.waseda.jp)
B187: (15) Check the data of the application documents at the Academic and Student Affairs Section.
B189: (16) (Only after the completion of data check) Submit the original application document ⑤Doctoral Dissertation Review Report (for all applicants), ⑧List of research achievements (*only if applicable)

Sheet Data Entry Sheet for submission
A1: This form is for applicants who write their dissertation in "English" Applicants who write in Japanese shall use the form for Japanese.
H2: How to fill in the field
B3: Student Number （for "Kateinai" applicants only) | D3: ※If you are in "Kateigai"category, leave this section blank. If you are within 3 years after withdrawal, please enter your Student Number when you were enrolled. | H3: Required field | I3: If applicable
A5: １．申請者基本情報 | B5: Applicant's Basic Information | C5: Family name | E5: Given name
B6: Full name in Kanji | G6: ※If applicable
B7: Full name in Katakana
B8: Full name in English
B9: Date of birth（YYYY/MM/DD） | E9: Permanent domicile | F9: ※Please select. | G9: If you have a foreign national, please choose "- Foreign nationals"
B10: Nationality | C10: ※Please select. | D10: If you select others, write down details
B11: Email address 1（Waseda mail address） | G11: ※If applicable
B12: Email address 2（Other address) | G12: ※If applicable
A14: ２．最終学歴（在学中・退学を含む）・職歴 | B14: Education・Occupation
B15: Please fill in your current enrolled graduate school. If you have withdrawn from school, please fill in the name of your withdrawn school.
B16: Date of admission (yyyy/mm/dd) | D16: Date of graduation, completion or withdrawal (yyyy/mm/dd) *Leave blank when currently being enrolled. | F16: Current status
B17: Name of graduate school | E17: If you select others, write down details
B18: Department | E18: If you select others, write down details
B19: Program
B20: Your current job status | H20: ※If applicable
A22: ３．申請情報 | B22: Information of Application for Doctorate
B23: The Dissertation Title should be written in the same language as the dissertation. Leave the field blank for "Subtitle" if not applicable.
B24: Graduate School you apply to for doctorate
B25: Department you apply to for doctorate
B26: Research Guidance | H26: ※Please select/copy your research guidance from the sheet "Research guidance list" and paste it.
B27: Kateinai or Kateigai
B28: degree
B29: Dissertation Title
B30: Dissertation Title in Japanese
B31: Subtitle | H31: ※If applicable
B32: Subtitle in Japanese | H32: ※If applicable
B33: Synopsis （about 100 words）
B34: Taking courses for research ethics | C34: ※Please select.
C35: If you select others, write down details
A37: 4．Screening information（※Regarding the screening schedule, you need to consult with your supervisor.)
B38: Preliminary Screening Day（YYYY/MM/DD）
B39: Date for Graduate School Steering Committee accepting your application （YYYY/MM/DD）
B40: Referee | C40: Name | E40: Current position
C41: Family name | D41: Given name
B42: Principal Referee
B43: Referee 1
B44: Referee 2
...

Sheet Research guidance list
A1: Research guidance↓↓Please select from below list and copy, then paste it to "Data Entry Sheet for Submission"↓↓ | B1: Name of Supervisor (Family name, Given name) | C1: Graduate School | D1: Department | E1: 科目キー | F1: 科目クラスコード | G1: 配当年度 | H1: 授業実施科目キー | I1: 研究指導名 | J1: 英字科目名
A2: =I2&"【"&E2&F2&"】" -> Research on Mathematical Logic and Set Theory【510201000101】 | B2: USUBA, Toshimichi | C2: Graduate School of Fundamental Science and Engineering | D2: Department of Pure and Applied Mathematics | E2: 5102010001 | F2: 01 | G2: 2026 | H2: 5102010001 | I2: Research on Mathematical Logic and Set Theory | J2: Research on Mathematical Logic and Set Theory
A3: =I3&"【"&E3&F3&"】" -> Research on Algebraic Number Theory【510201000201】 | B3: OZAKI, Manabu | C3: Graduate School of Fundamental Science and Engineering | D3: Department of Pure and Applied Mathematics | E3: 5102010002 | F3: 01 | G3: 2026 | H3: 5102010002 | I3: Research on Algebraic Number Theory | J3: Research on Algebraic Number Theory
A4: =I4&"【"&E4&F4&"】" -> Research on Algebraic Geometry【510201000601】 | B4: KAJI, Hajime | C4: Graduate School of Fundamental Science and Engineering | D4: Department of Pure and Applied Mathematics | E4: 5102010006 | F4: 01 | G4: 2026 | H4: 5102010006 | I4: Research on Algebraic Geometry | J4: Research on Algebraic Geometry
A5: =I5&"【"&E5&F5&"】" -> Research on Algebraic Geometry【510201000701】 | B5: NAGAI, Yasunari | C5: Graduate School of Fundamental Science and Engineering | D5: Department of Pure and Applied Mathematics | E5: 5102010007 | F5: 01 | G5: 2026 | H5: 5102010007 | I5: Research on Algebraic Geometry | J5: Research on Algebraic Geometry
A6: =I6&"【"&E6&F6&"】" -> Research on Topology【510201000801】 | B6: OIKONOMIDES, Catherine@MURAKAMI, Jun | C6: Graduate School of Fundamental Science and Engineering | D6: Department of Pure and Applied Mathematics | E6: 5102010008 | F6: 01 | G6: 2026 | H6: 5102010008 | I6: Research on Topology | J6: Research on Topology
A7: =I7&"【"&E7&F7&"】" -> Research on Topology【510201000901】 | B7: WATANABE, Nobuya | C7: Graduate School of Fundamental Science and Engineering | D7: Department of Pure and Applied Mathematics | E7: 5102010009 | F7: 01 | G7: 2026 | H7: 5102010009 | I7: Research on Topology | J7: Research on Topology
A8: =I8&"【"&E8&F8&"】" -> Research on Geometry【510201001101】 | B8: HOMMA, Yasushi | C8: Graduate School of Fundamental Science and Engineering | D8: Department of Pure and Applied Mathematics | E8: 5102010011 | F8: 01 | G8: 2026 | H8: 5102010011 | I8: Research on Geometry | J8: Research on Geometry
A9: =I9&"【"&E9&F9&"】" -> Research on Stochastic Partial Differential Equations【510201001401】 | B9: FUKUIZUMI, Reika | C9: Graduate School of Fundamental Science and Engineering | D9: Department of Pure and Applied Mathematics | E9: 5102010014 | F9: 01 | G9: 2026 | H9: 5102010014 | I9: Research on Stochastic Partial Differential Equations | J9: Research on Stochastic Partial Differential Equations
A10: =I10&"【"&E10&F10&"】" -> Research on Partial Differential Equations【510201001501】 | B10: MITAKE, Hiroyoshi | C10: Graduate School of Fundamental Science and Engineering | D10: Department of Pure and Applied Mathematics | E10: 5102010015 | F10: 01 | G10: 2026 | H10: 5102010015 | I10: Research on Partial Differential Equations | J10: Research on Partial Differential Equations
A11: =I11&"【"&E11&F11&"】" -> Research on Functional Analysis and Non-linear Partial Differential Equations【510201001701】 | B11: KOZONO, Hideo | C11: Graduate School of Fundamental Science and Engineering | D11: Department of Pure and Applied Mathematics | E11: 5102010017 | F11: 01 | G11: 2026 | H11: 5102010017 | I11: Research on Functional Analysis and Non-linear Partial Differential Equations | J11: Research on Functional Analysis and Non-linear Partial Differential Equations
A12: =I12&"【"&E12&F12&"】" -> Research on Nonlinear Analysis【510201001901】 | B12: TANAKA, Kazunaga | C12: Graduate School of Fundamental Science and Engineering | D12: Department of Pure and Applied Mathematics | E12: 5102010019 | F12: 01 | G12: 2026 | H12: 5102010019 | I12: Research on Nonlinear Analysis | J12: Research on Nonlinear Analysis
A13: =I13&"【"&E13&F13&"】" -> Research on Applications of Mathematics to Materials Engineering【510201002001】 | B13: HIRATA, Akihiko | C13: Graduate School of Fundamental Science and Engineering | D13: Department of Pure and Applied Mathematics | E13: 5102010020 | F13: 01 | G13: 2026 | H13: 5102010020 | I13: Research on Applications of Mathematics to Materials Engineering | J13: Research on Applications of Mathematics to Materials Engineering
... A502: =I502&"【"&E502&F502&"】" -> Research on Electrical Engineering and Bioscience B WASA, Yasuaki【530411000925】 | B502: HAYASHI, Yasuhiro@MURATA, Noboru@WASA, Yasuaki | C502: Graduate School of Advanced Science and Engineering | D502: Department of Advanced Science and Engineering | E502: 5304110009 | F502: 25 | G502: 2026 | H502: 5304110009 | I502: Research on Electrical Engineering and Bioscience B WASA, Yasuaki | J502: Research on Electrical Engineering and Bioscience B
A503: Energy and Sustainable System for Environment | I503: Energy and Sustainable System for Environment | J503: Energy and Sustainable System for Environment
A504: Assessment of Environmental System | I504: Assessment of Environmental System | J504: Assessment of Environmental System
A505: Environment and Electric Energy | I505: Environment and Electric Energy | J505: Environment and Electric Energy
A506: Environmental Symbiosis & Local Society System | I506: Environmental Symbiosis & Local Society System | J506: Environmental Symbiosis & Local Society System
A507: Environment and Power System | I507: Environment and Power System | J507: Environment and Power System
A508: Environmental and Exergy Engineering Research | I508: Environmental and Exergy Engineering Research | J508: Environmental and Exergy Engineering Research
A509: Environment and Energy Governance Research | I509: Environment and Energy Governance Research | J509: Environment and Energy Governance Research
A510: Environmental and Physicochemical Processing | I510: Environmental and Physicochemical Processing | J510: Environmental and Physicochemical Processing
A511: Environmental and Energy Systems Engineering Research | I511: Environmental and Energy Systems Engineering Research | J511: Environmental and Energy Systems Engineering Research

Sheet Application_Written Oath
A1: Application for Doctoral Degree with Written Oath
Q2: [Form No. 1]
P3: Date Submitted(yyyy/mm/dd):
A4: ="To the Dean of the "&'Data Entry Sheet for submission'!C24&", Waseda University" -> To the Dean of the , Waseda University
A6: 4cm Width × 5cm Height Passport Photo | G6: Permanent Domicile in Japan or Nationality | I6: =IF(VLOOKUP('Data Entry Sheet for submission'!F9,入力タブ!AF:AG,2,FALSE)<>99,'Data Entry Sheet for submission'!F9,IF(VLOOKUP('Data Entry Sheet for submission'!C10,入力タブ!AN:AO,2,FALSE)=99,'Data Entry Sheet for submission'!E10,'Data Entry Sheet for submission'!C10)) -> ※Please select.
G7: Current Address: | I7: 〒 | K7: -
G10: Name in Katakana | I10: ='Data Entry Sheet for submission'!C7&" "&'Data Entry Sheet for submission'!E7
G11: Name in Full | I11: =IF(ISBLANK('Data Entry Sheet for submission'!C6),'Data Entry Sheet for submission'!C8&" "&'Data Entry Sheet for submission'!E8,'Data Entry Sheet for submission'!C6&" "&'Data Entry Sheet for submission'!E6) | R11: Signature
G12: Date of Birth | I12: ='Data Entry Sheet for submission'!D9 -> 0
G13: Tel
G14: E-mail | I14: =IF(ISBLANK('Data Entry Sheet for submission'!D11),'Data Entry Sheet for submission'!D12,'Data Entry Sheet for submission'!D11) -> 0
B16: ="In accordance with Article 14 of the Waseda University Graduate School Regulations, I hereby apply for the degree of "&'Data Entry Sheet for submission'!C28&" and submit the items indicated below. I certify that the dissertation submitted is my own work and written in accordance with the University policy regarding academic integrity. " -> In accordance with Article 14 of the Waseda University Graduate School Regulations, I hereby apply for the degree of and submit the items indicated below. I certify that the dissertation submitted is my own work and written in accordance with the University policy regarding academic integrity.
B17: Furthermore, I acknowledge that in the event that it has been determined that I have engaged in research misconduct, the results of the investigation into said misconduct as well as the corresponding disciplinary measures (including my name and the titles of academic works I produced while engaging in misconduct) shall be made public.
A18: Notes
A20: 1. I apply for the degree of Doctor of/Ph.D. as follows:
B21: ='Data Entry Sheet for submission'!C24&"・"&'Data Entry Sheet for submission'!C25&"・"&'Data Entry Sheet for submission'!C28 -> ・・
A23: 2. Synopsis (1 copy in acceptance, PDF/A file in Final Pass-Fail Judgment)
A25: 3. Dissertation(1 PDF in Dept. Screening Committee, 1 PDF/A file in Final Pass-Fail Judgment)
B26: Dissertation Title ： | F26: ='Data Entry Sheet for submission'!C29 -> 0
B27: Subtitle ： | F27: ='Data Entry Sheet for submission'!C31 -> 0
B28: Dessertation Title in Japanese ： | F28: ='Data Entry Sheet for submission'!C30 -> 0
B29: Subtitle in Japanese ： | F29: ='Data Entry Sheet for submission'!C32 -> 0
A31: 4. Approval of Supervisor
B32: I hereby give approval to the candidate above to apply for the degree.
B34: Name of supervisor： | J34: Signature
A37: [Administrative Office Use Only]
A38: 受理研究科 | E38: ='Data Entry Sheet for submission'!C24 -> 0
A39: 受理年月日 | F39: 年 | H39: 月 | J39: 日
A40: 面接試験実施年月日 | F40: 年 | H40: 月 | J40: 日
A41: 学識確認実施年月日 | F41: 年 | H41: 月 | J41: 日
A42: 論文審査終了年月日 | F42: 年 | H42: 月 | J42: 日 | K42: ※審査分科会終了日

Sheet 入力タブ
A1: ※Please select. | B1: -1 | C1: ※選択してください | E1: ※Please select. | F1: -1 | G1: ※選択してください | I1: ※Please select. | J1: -1 | K1: ※選択してください | M1: ※Please select. | N1: -1 | O1: ※選択してください | Q1: ※Please select. | R1: -1 | S1: ※選択してください | U1: ※選択してください | V1: -1 | W1: ※選択してください | X1: Doctoral Program | Y1: 博士後期課程 | AB1: ※Please select. | AF1: ※Please select. | AG1: -1 | AH1: ※選択してください | AJ1: ※Please select. | AK1: -1 | AL1: ※選択してください | AN1: ※Please select. | AO1: -1 | AP1: ※選択してください
A2: Graduate School of Fundamental Science and Engineering | B2: 51 | C2: 基幹理工学研究科 | E2: Kateinai (Within 3 years) | F2: 01 | G2: 課程内（課程3年以内） | I2: Doctor of Engineering | J2: 56 | K2: 博士（工学） | M2: Obtained credit for "研究倫理概論A" | N2: 8 | O2: 「研究倫理概論A」の単位取得済 | Q2: Department of Pure and Applied Mathematics | R2: 510201 | S2: 数学応用数理専攻 | U2: Male | V2: 1 | W2: 男 | Z2: 課程内 | AB2: Enrolled | AD2: 入学 | AF2: 北海道 | AG2: 01 | AH2: 北海道 | AJ2: Graduated | AK2: 1 | AL2: 修了 | AN2: Japanese | AO2: 392 | AP2: 日本
A3: Graduate School of Creative Science and Engineering | B3: 52 | C3: 創造理工学研究科 | E3: Kateinai (Early completion) | F3: 02 | G3: 課程内（早期修了） | I3: Doctor of Science | J3: 57 | K3: 博士（理学） | M3: Obtained credit for "研究倫理概論B" | N3: 9 | O3: 「研究倫理概論B」の単位取得済 | Q3: Department of Applied Mechanics and Aerospace Engineering | R3: 510203 | S3: 機械科学・航空宇宙専攻 | U3: Female | V3: 2 | W3: 女 | Z3: 課程外 | AB3: Graduated | AD3: 在学中 | AF3: 青森県 | AG3: 02 | AH3: 青森県 | AJ3: Withdrew | AK3: 2 | AL3: 退学 | AN3: South Korean | AO3: 410 | AP3: 韓国
A4: Graduate School of Advanced Science and Engineering | B4: 53 | C4: 先進理工学研究科 | E4: Kateinai ("Encho-sei": Students who enroll beyond 3 years) | F4: 03 | G4: 課程内（延長生） | I4: Doctor of Philosophy in International Studies | J4: 58 | K4: 博士（学術） | M4: Obtained credit for "Ethics and Research" | N4: 10 | O4: 「Ethics and Research」の単位取得済 | Q4: Department of Electronic and Physical Systems | R4: 510204 | S4: 電子物理システム学専攻 | AB4: Withdrew | AD4: 卒業 | AF4: 岩手県 | AG4: 03 | AH4: 岩手県 | AJ4: Enrolled | AK4: 3 | AL4: 在学中 | AN4: Chinese | AO4: 156 | AP4: 中国
A5: Graduate School of Environment and Energy Engineering | B5: 54 | C5: 環境・エネルギー研究科 | E5: Kateinai (5-year Doctoral Program) | F5: 04 | G5: 課程内（一貫制博士課程5年以内） | I5: Doctor of Architecture | J5: 65 | K5: 博士（建築学） | M5: Others | N5: 99 | O5: その他 | Q5: Department of Intermedia Studies | R5: 510205 | S5: 表現工学専攻 | AB5: Completed | AD5: 編入学 | AF5: 宮城県 | AG5: 04 | AH5: 宮城県 | AN5: Others | AO5: 99 | AP5: その他
A6: Other | B6: 99 | C6: その他 | E6: Kateinai (Within 3 years after withdrawal) | F6: 10 | G6: 課程内（退学後3年以内） | I6: Doctor of Management Engineering | J6: 86 | K6: 博士（経営工学） | Q6: Department of Computer Science and Communications Engineering | R6: 510206 | S6: 情報理工・情報通信専攻 | AD6: 卒業 | AF6: 秋田県 | AG6: 05 | AH6: 秋田県
E7: Kateigai | F7: 20 | G7: 課程外 | I7: Doctor of Biomedical Science | J7: 87 | K7: 博士（生命医科学） | Q7: Department of Materials Science | R7: 510207 | S7: 材料科学専攻 | AD7: 修了 | AF7: 山形県 | AG7: 06 | AH7: 山形県
I8: Doctor of Life Science | J8: 88 | K8: 博士（生命科学） | Q8: Department of Architecture | R8: 520201 | S8: 建築学専攻 | AD8: 退学 | AF8: 福島県 | AG8: 07 | AH8: 福島県
Q9: Department of Modern Mechanical Engineering | R9: 520202 | S9: 総合機械工学専攻 | AF9: 茨城県 | AG9: 08 | AH9: 茨城県
Q10: Department of Industrial and Management Systems Engineering | R10: 520203 | S10: 経営システム工学専攻 | AF10: 栃木県 | AG10: 09 | AH10: 栃木県
Q11: Department of Civil and Environmental Engineering | R11: 520204 | S11: 建設工学専攻 | AF11: 群馬県 | AG11: 10 | AH11: 群馬県
Q12: Department of Earth Sciences, Resources and Environmental Engineering | R12: 520205 | S12: 地球・環境資源理工学専攻 | AB12: ※Please select. | AC12: -1 | AD12: ※選択してください | AF12: 埼玉県 | AG12: 11 | AH12: 埼玉県
Q13: Department of Business Design & Management | R13: 520206 | S13: 経営デザイン専攻 | AB13: Enrolled | AC13: 11 | AD13: 入学 | AF13: 千葉県 | AG13: 12 | AH13: 千葉県
Q14: Department of Pure and Applied Physics | R14: 530201 | S14: 物理学及応用物理学専攻 | AB14: Transferred | AC14: 12 | AD14: 編入学 | AF14: 東京都 | AG14: 13 | AH14: 東京都
Q15: Department of Chemistry and Biochemistry | R15: 530202 | S15: 化学・生命化学専攻 | AF15: 神奈川県 | AG15: 14 | AH15: 神奈川県
Q16: Department of Applied Chemistry | R16: 530203 | S16: 応用化学専攻 | AF16: 新潟県 | AG16: 15 | AH16: 新潟県
Q17: Department of Life Science and Medical Bioscience | R17: 530204 | S17: 生命医科学専攻 | AF17: 富山県 | AG17: 16 | AH17: 富山県
Q18: Department of Electrical Engineering and Bioscience | R18: 530205 | S18: 電気・情報生命専攻 | AF18: 石川県 | AG18: 17 | AH18: 石川県
Q19: Department of Integrative Bioscience and Biomedical Engineering | R19: 530206 | S19: 生命理工学専攻 | AF19: 福井県 | AG19: 18 | AH19: 福井県
Q20: Department of Nanoscience and Nanoengineering | R20: 530207 | S20: ナノ理工学専攻 | AB20: ※Please select. | AC20: -1 | AD20: ※選択してください | AF20: 山梨県 | AG20: 19 | AH20: 山梨県
A21: 入学年月日Check | B21: =IF(アクセス読み取り用!L2<DATE(1901,1,1),0,IF(アクセス読み取り用!L2<DATE(2018,4,1),1,2)) -> 0 | C21: ⑤ | Q21: Cooperative Major in Advanced Biomedical Sciences | R21: 530208 | S21: 共同先端生命医科学専攻 | AB21: Graduated | AC21: 21 | AD21: 卒業 | AF21: 長野県 | AG21: 20 | AH21: 長野県
A22: 学籍番号Check | B22: =IF(アクセス読み取り用!A2="",0,IF(COUNTIF(アクセス読み取り用!A2,"*H*"),1,2)) -> 0 | C22: ① | Q22: Cooperative Major in Advanced Health Science | R22: 530209 | S22: 共同先進健康科学専攻 | AB22: Withdrew | AC22: 31 | AD22: 退学 | AF22: 岐阜県 | AG22: 21 | AH22: 岐阜県
A23: 研究科Check | B23: =IF(アクセス読み取り用!V2=53,1,0) -> #N/A | C23: ② | Q23: Cooperative Major in Nuclear Energy | R23: 530210 | S23: 共同原子力専攻 | AF23: 静岡県 | AG23: 22 | AH23: 静岡県
A24: 専攻Check | B24: =IF(アクセス読み取り用!X2="08",1,IF(アクセス読み取り用!X2="09",2,IF(アクセス読み取り用!X2="10",3,0))) -> #N/A | C24: ③ | Q24: Department of Advanced Science and Engineering | R24: 530411 | S24: 先進理工学専攻 | AF24: 愛知県 | AG24: 23 | AH24: 愛知県
A25: Check対象 | B25: =IF(AND(B23=1,B24>=1),1,0) -> #N/A | C25: ④ | Q25: Department of Environment and Energy Engineering | R25: 54 | S25: 環境・・エネルギー専攻 | AF25: 三重県 | AG25: 24 | AH25: 三重県
B26: ="Waseda University"&" "&'Data Entry Sheet for submission'!C24 -> Waseda University | Q26: Others | R26: 99 | S26: その他 | AF26: 滋賀県 | AG26: 25 | AH26: 滋賀県
A27: ④=1 & ③=1 & ①=1 | B27: =IF(AND(B25=1,B24=1,B22=1),1,0) -> #N/A | C27: Waseda University Graduate School of Advanced Science and Engineering AND Tokyo Women’s Medical University Graduate School of Medicine | AB27: ※Please select. | AC27: -1 | AD27: ※選択してください | AF27: 京都府 | AG27: 26 | AH27: 京都府
A28: ④=1 & ③=1 & ①=2 | B28: =IF(AND(B25=1,B24=1,B22=2),2,0) -> #N/A | C28: Tokyo Women’s Medical University Graduate School of Medicine AND Waseda University Graduate School of Advanced Science and Engineering | AB28: Completed | AC28: 22 | AD28: 修了 | AF28: 大阪府 | AG28: 27 | AH28: 大阪府
A29: ④=1 & ③=2 | B29: =IF(AND(B25=1,B24=2),3,0) -> #N/A | C29: Waseda University Graduate School of Advanced Science and Engineering AND Tokyo University of Agriculture and Technology Graduate School of Bio-Applications and Systems Engineering | AB29: Withdrew | AC29: 31 | AD29: 退学 | AF29: 兵庫県 | AG29: 28 | AH29: 兵庫県
A30: ④=1 & ③=3 & ⑤=1 | B30: =IF(AND(B25=1,B24=3,B21=1),4,0) -> #N/A | C30: Waseda University Graduate School of Advanced Science and Engineering AND Tokyo City University Graduate School of Engineering | AB30: Current student | AC30: 41 | AD30: 在学中 | AF30: 奈良県 | AG30: 29 | AH30: 奈良県
A31: ④=1 & ③=3 & ⑤=2 | B31: =IF(AND(B25=1,B24=3,B21=2),5,0) -> #N/A | C31: Waseda University Graduate School of Advanced Science and Engineering AND Tokyo City University Graduate School of Integrative Science and Engineering | AF31: 和歌山県 | AG31: 30 | AH31: 和歌山県
AF32: 鳥取県 | AG32: 31 | AH32: 鳥取県
B33: =IF(B25=0,0,MAX(B27:B31)) -> #N/A | C33: =IF(B33=0,B26,VLOOKUP(B33,B27:C31,2,FALSE)) -> #N/A | AF33: 島根県 | AG33: 32 | AH33: 島根県
AF34: 岡山県 | AG34: 33 | AH34: 岡山県
AF35: 広島県 | AG35: 34 | AH35: 広島県
AB36: ※Please select. | AC36: -1 | AD36: ※選択してください | AF36: 山口県 | AG36: 35 | AH36: 山口県
AB37: Graduated | AC37: 21 | AD37: 卒業 | AF37: 徳島県 | AG37: 36 | AH37: 徳島県
AB38: Completed | AC38: 22 | AD38: 修了 | AF38: 香川県 | AG38: 37 | AH38: 香川県
AB39: Withdrew | AC39: 31 | AD39: 退学 | AF39: 愛媛県 | AG39: 38 | AH39: 愛媛県
AB40: Current student | AC40: 41 | AD40: 在学中 | AF40: 高知県 | AG40: 39 | AH40: 高知県
...

Sheet Synopsis Cover Page
A1: =""&" "&'Data Entry Sheet for submission'!C24
A2: Waseda University
A6: 博 士 論 文 概 要
A7: Doctoral Dissertation Synopsis
A9: 論 文 題 目
A10: Dissertation Title
A11: ='Data Entry Sheet for submission'!C29 -> 0
A12: ='Data Entry Sheet for submission'!C31 -> 0
A14: ='Data Entry Sheet for submission'!C30 -> 0
A15: ='Data Entry Sheet for submission'!C32 -> 0
A21: 申 請 者
A22: (Applicant Name)
A23: =PROPER('Data Entry Sheet for submission'!E8)&" "&UPPER('Data Entry Sheet for submission'!C8)
A24: =IF(ISBLANK('Data Entry Sheet for submission'!C6),'Data Entry Sheet for submission'!C7&" "&'Data Entry Sheet for submission'!E7,'Data Entry Sheet for submission'!C6&" "&'Data Entry Sheet for submission'!E6)
A28: ='Data Entry Sheet for submission'!C25&", "&VLOOKUP('Data Entry Sheet for submission'!C26,'Research guidance list'!A:J,10,FALSE) -> #N/A
A30: ='Data Entry Sheet for submission'!C39 -> 0

Sheet List of research achievements
A1: ="List of research achievements for application of"&" "&'Data Entry Sheet for submission'!C28&", Waseda University" -> List of research achievements for application of , Waseda University
A3: Full Name： | B3: =IF(ISBLANK('Data Entry Sheet for submission'!C6),'Data Entry Sheet for submission'!C8&" "&'Data Entry Sheet for submission'!E8,'Data Entry Sheet for submission'!C6&" "&'Data Entry Sheet for submission'!E6) | G3: seal or signature
I4: Date Submitted(yyyy/mm/dd):
A5: 種類別 (By Type) | B5: 題名、 発表・発行掲載誌名、 発表・発行年月、 連名者（申請者含む） (theme, journal name, date & year of publication, name of authors inc. yourself)

Sheet CV
A1: [Form No. 2]
A2: ="CV for application of"&" "&'Data Entry Sheet for submission'!C28&" ,Waseda University" -> CV for application of ,Waseda University | AI2: How to fill in the field
AA3: As of Month, Year | AB3: yyyy/mm/dd | AI3: Required field | AJ3: If applicable
D4: family name | N4: given name | X4: Signature
A5: Full name in Katakana | D5: ='Data Entry Sheet for submission'!C7 -> 0 | N5: ='Data Entry Sheet for submission'!E7 -> 0
A6: Full name in Kanji (if applicable) | D6: =IF(ISBLANK('Data Entry Sheet for submission'!C6),'Data Entry Sheet for submission'!C7,'Data Entry Sheet for submission'!C6) -> 0 | N6: =IF(ISBLANK('Data Entry Sheet for submission'!C6),'Data Entry Sheet for submission'!E7,'Data Entry Sheet for submission'!E6) -> 0
A7: Full name in English | D7: =UPPER('Data Entry Sheet for submission'!C8) | N7: =PROPER('Data Entry Sheet for submission'!E8)
A8: date of birth | D8: ='Data Entry Sheet for submission'!D9 -> 0
A9: Current address in Japan | D9: ='Application_Written Oath'!I7&'Application_Written Oath'!J7&'Application_Written Oath'!K7&'Application_Written Oath'!L7 -> 〒- | X9: Permanent domicile | AA9: ='Data Entry Sheet for submission'!F9 -> ※Please select.
D10: ='Application_Written Oath'!I8 -> 0
X11: Nationality | AA11: =IF(VLOOKUP('Data Entry Sheet for submission'!C10,入力タブ!AN:AO,2,FALSE)=99,'Data Entry Sheet for submission'!E10,'Data Entry Sheet for submission'!C10) -> ※Please select.
A12: e-mail | D12: =IF(ISBLANK('Data Entry Sheet for submission'!D11),'Data Entry Sheet for submission'!D12,'Data Entry Sheet for submission'!D11) -> 0
A14: Education | D14: (Educational history after enrolling at high school with indication of attending / graduated / withdrew etc.,)
A15: High School | Y15: Year | AB15: Month | AC15: enrolled
Y16: Year | AB16: Month | AC16: Graduated
A17: University | D17: Department of ****/Major in ****, School of ******, ****** University, Country | Y17: Year | AB17: Month | AC17: ※Please select.
Y18: Year | AB18: Month | AC18: ※Please select.
Y19: Year | AB19: Month | AC19: ※Please select.
Y20: Year | AB20: Month | AC20: ※Please select.
Y21: Year | AB21: Month | AC21: ※Please select.
Y22: Year | AB22: Month | AC22: ※Please select.
A23: Graduate School/Master Program | D23: Master's Program in Department of *********, Graduate School of *********, ******* University, Country | Y23: Year | AB23: Month | AC23: ※Please select.
Y24: Year | AB24: Month | AC24: ※Please select.
A25: Graduate School /Doctoral Program | D25: Doctoral Program in Department of *********, Graduate School of *********, ******* University, Country | Y25: Year | AB25: Month | AC25: ※Please select.
Y26: Year | AB26: Month | AC26: ※Please select.
A28: Master’s degree you have obtained | D28: Name of degree | T28: degree date | X28: yyyy/mm/dd
D29: Name of University
A30: Doctor’s degree you have obtained | D30: Name of degree | T30: degree date | X30: yyyy/mm/dd
D31: Name of University
A33: Occupation
A34: Occupational history (with indication of job title, qualification, )
A35: Starting date | H35: Resigned date | N35: Occupation （Except current job）
C36: Year | F36: Month | G36: ～ | J36: Year | M36: Month
C38: Year | F38: Month | G38: ～ | J38: Year | M38: Month
C40: Year | F40: Month | G40: ～ | J40: Year | M40: Month
C42: Year | F42: Month | G42: ～ | J42: Year | M42: Month
C44: Year | F44: Month | G44: ～ | J44: Year | M44: Month
A46: Current job
C47: Year | F47: Month | G47: ～ | J47: Year | M47: Month
A50: Academies you belong to & social activities
...

Sheet 【FNL decision】Coverpage
A4: ='Data Entry Sheet for submission'!C29 -> 0
A5: ='Data Entry Sheet for submission'!C31 -> 0
A7: ='Data Entry Sheet for submission'!C30 -> 0
A8: ='Data Entry Sheet for submission'!C32 -> 0
A16: yyyy/mm
A23: =PROPER('Data Entry Sheet for submission'!E8)&" "&UPPER('Data Entry Sheet for submission'!C8)
A24: =IF(ISBLANK('Data Entry Sheet for submission'!C6),'Data Entry Sheet for submission'!C7&" "&'Data Entry Sheet for submission'!E7,'Data Entry Sheet for submission'!C6&" "&'Data Entry Sheet for submission'!E6)
A33: =A4 -> 0
A34: =A5 -> 0
A36: =A7 -> 0
A37: =A8 -> 0
A42: =A16 -> yyyy/mm
A44: =入力タブ!C33 -> #N/A
A47: ='Data Entry Sheet for submission'!C25&", "&VLOOKUP('Data Entry Sheet for submission'!C26,'Research guidance list'!A:J,10,FALSE) -> #N/A
A51: =PROPER('Data Entry Sheet for submission'!E8)&" "&UPPER('Data Entry Sheet for submission'!C8)
A52: =IF(ISBLANK('Data Entry Sheet for submission'!C6),'Data Entry Sheet for submission'!C7&" "&'Data Entry Sheet for submission'!E7,'Data Entry Sheet for submission'!C6&" "&'Data Entry Sheet for submission'!E6)

Sheet 【FNL decision】Review report
A1: ='Data Entry Sheet for submission'!C24 -> 0
A2: Waseda University
A6: 博 士 論 文 審 査 報 告 書
A7: Doctoral Dissertation Review Report
A10: 論 文 題 目
A11: Dissertation Title
A13: ='Data Entry Sheet for submission'!C29 -> 0
A14: ='Data Entry Sheet for submission'!C31 -> 0
A16: ='Data Entry Sheet for submission'!C30 -> 0
A17: ='Data Entry Sheet for submission'!C32 -> 0
A23: 申 請 者
A24: (Applicant Name)
A25: =PROPER('Data Entry Sheet for submission'!E8)&" "&UPPER('Data Entry Sheet for submission'!C8)
A26: =IF(ISBLANK('Data Entry Sheet for submission'!C6),'Data Entry Sheet for submission'!C7&" "&'Data Entry Sheet for submission'!E7,'Data Entry Sheet for submission'!C6&" "&'Data Entry Sheet for submission'!E6)
A30: ='Data Entry Sheet for submission'!C25&" "&VLOOKUP('Data Entry Sheet for submission'!C26,'Research guidance list'!A:J,10,FALSE) -> #N/A
A32: yyyy/mm

Sheet アクセス読み取り用
A1: 学籍番号 | B1: 氏名 | C1: カナ氏名 | D1: ローマ字氏名 | E1: 生年月日 | F1: 本籍コード | G1: 本籍 | H1: 国籍コード | I1: 国籍 | J1: メールアドレス１ | K1: メールアドレス２ | L1: 学歴入学年月日 | M1: 学歴修了退学年月日 | N1: 学歴在籍状態コード | O1: 学歴在籍状態 | P1: 学歴学部研究科コード | Q1: 学歴学部研究科名 | R1: 学歴専攻コード | S1: 学歴専攻名 | T1: 学歴課程 | U1: 現職 | V1: 研究科コード | W1: 学科コード | X1: 専攻コード | Y1: 研究科名 | Z1: 専攻名 | AA1: 研究指導科目キー | AB1: 研究指導クラスコード | AC1: 研究指導名 | AD1: 課程種別コード | AE1: 課程種別 | AF1: 申請学位コード | AG1: 申請学位 | AH1: 論文題目 | AI1: 論文題目訳 | AJ1: 論文副題 | AK1: 論文副題訳 | AL1: 論文概要 | AM1: 研究倫理受講コード | AN1: 研究倫理受講 | AO1: 予備審査実施日 | AP1: 運営委員会開催日 | AQ1: 主査氏名 | AR1: 主査現職資格 | AS1: 副査１氏名 | AT1: 副査１現職資格 | AU1: 副査２氏名 | AV1: 副査２現職資格 | AW1: 副査３氏名 | AX1: 副査３現職資格 | AY1: 副査４氏名 | AZ1: 副査４現職資格 | BA1: 副査５氏名 | BB1: 副査５現職資格 | BC1: 副査６氏名 | BD1: 副査６現職資格
A2: =LEFT(UPPER(ASC('Data Entry Sheet for submission'!C3)),8) | B2: =IF(ISBLANK('Data Entry Sheet for submission'!C6),'Data Entry Sheet for submission'!C7&" "&'Data Entry Sheet for submission'!E7,'Data Entry Sheet for submission'!C6&" "&'Data Entry Sheet for submission'!E6) | C2: ='Data Entry Sheet for submission'!C7&" "&'Data Entry Sheet for submission'!E7 | D2: =UPPER('Data Entry Sheet for submission'!C8)&" "&PROPER('Data Entry Sheet for submission'!E8) | E2: ='Data Entry Sheet for submission'!D9 -> 0 | F2: =VLOOKUP('Data Entry Sheet for submission'!F9,入力タブ!AF:AH,2,FALSE) -> -1 | G2: =VLOOKUP('Data Entry Sheet for submission'!F9,入力タブ!AF:AH,3,FALSE) -> ※選択してください | H2: =VLOOKUP('Data Entry Sheet for submission'!C10,入力タブ!AN:AP,2,FALSE) -> -1 | I2: =IF(VLOOKUP('Data Entry Sheet for submission'!C10,入力タブ!AN:AP,2,FALSE)=99,'Data Entry Sheet for submission'!E10,VLOOKUP('Data Entry Sheet for submission'!C10,入力タブ!AN:AP,3,FALSE)) -> ※選択してください | J2: =IF(ISBLANK('Data Entry Sheet for submission'!D11),"",'Data Entry Sheet for submission'!D11) | K2: =IF(ISBLANK('Data Entry Sheet for submission'!D12),"",'Data Entry Sheet for submission'!D12) | L2: ='Data Entry Sheet for submission'!C16 -> 0 | M2: ='Data Entry Sheet for submission'!E16 -> 0 | N2: =VLOOKUP('Data Entry Sheet for submission'!G16,入力タブ!AJ:AL,2,FALSE) -> #N/A | O2: =VLOOKUP('Data Entry Sheet for submission'!G16,入力タブ!AJ:AL,3,FALSE) -> #N/A | P2: =VLOOKUP('Data Entry Sheet for submission'!C17,入力タブ!A:C,2,FALSE) -> #N/A | Q2: =IF(VLOOKUP('Data Entry Sheet for submission'!C17,入力タブ!A:C,2,FALSE)=99,'Data Entry Sheet for submission'!F17,VLOOKUP('Data Entry Sheet for submission'!C17,入力タブ!A:C,3,FALSE)) -> #N/A | R2: =VLOOKUP('Data Entry Sheet for submission'!C18,入力タブ!Q:S,2,FALSE) -> #N/A | S2: =IF(VLOOKUP('Data Entry Sheet for submission'!C18,入力タブ!Q:S,2,FALSE)=99,'Data Entry Sheet for submission'!F18,VLOOKUP('Data Entry Sheet for submission'!C18,入力タブ!Q:S,3,FALSE)) -> #N/A | T2: =VLOOKUP('Data Entry Sheet for submission'!C19,入力タブ!X:Y,2,FALSE) -> #N/A | U2: =IF(ISBLANK('Data Entry Sheet for submission'!C20),"",'Data Entry Sheet for submission'!C20) | V2: =VLOOKUP('Data Entry Sheet for submission'!C24,入力タブ!A:C,2,FALSE) -> #N/A | W2: =MID(VLOOKUP('Data Entry Sheet for submission'!C25,入力タブ!Q:S,2,FALSE),3,2) -> #N/A | X2: =MID(VLOOKUP('Data Entry Sheet for submission'!C25,入力タブ!Q:S,2,FALSE),5,2) -> #N/A | Y2: =VLOOKUP('Data Entry Sheet for submission'!C24,入力タブ!A:C,3,FALSE) -> #N/A | Z2: =VLOOKUP('Data Entry Sheet for submission'!C25,入力タブ!Q:S,3,FALSE) -> #N/A | AA2: =VLOOKUP('Data Entry Sheet for submission'!C26,'Research guidance list'!A:I,5,FALSE) -> #N/A | AB2: =VLOOKUP('Data Entry Sheet for submission'!C26,'Research guidance list'!A:I,6,FALSE) -> #N/A | AC2: =VLOOKUP('Data Entry Sheet for submission'!C26,'Research guidance list'!A:J,10,FALSE) -> #N/A | AD2: =VLOOKUP('Data Entry Sheet for submission'!C27,入力タブ!E:G,2,FALSE) -> #N/A | AE2: =VLOOKUP('Data Entry Sheet for submission'!C27,入力タブ!E:G,3,FALSE) -> #N/A | AF2: =VLOOKUP('Data Entry Sheet for submission'!C28,入力タブ!I:K,2,FALSE) -> #N/A | AG2: =VLOOKUP('Data Entry Sheet for submission'!C28,入力タブ!I:K,3,FALSE) -> #N/A | AH2: ='Data Entry Sheet for submission'!C29 -> 0 | AI2: ='Data Entry Sheet for submission'!C30 -> 0 | AJ2: =IF(ISBLANK('Data Entry Sheet for submission'!C31),"",'Data Entry Sheet for submission'!C31) | AK2: =IF(ISBLANK('Data Entry Sheet for submission'!C32),"",'Data Entry Sheet for submission'!C32) | AL2: ='Data Entry Sheet for submission'!C33 -> 0 | AM2: =VLOOKUP('Data Entry Sheet for submission'!C34,入力タブ!M:O,2,FALSE) -> -1 | AN2: =IF(VLOOKUP('Data Entry Sheet for submission'!C34,入力タブ!M:O,2,FALSE)=99,'Data Entry Sheet for submission'!D35,VLOOKUP('Data Entry Sheet for submission'!C34,入力タブ!M:O,3,FALSE)) -> ※選択してください | AO2: ='Data Entry Sheet for submission'!C38 -> 0 | AP2: ='Data Entry Sheet for submission'!C39 -> 0 | AQ2: ='Data Entry Sheet for submission'!C42 & " " & 'Data Entry Sheet for submission'!D42 | AR2: ='Data Entry Sheet for submission'!E42 -> 0 | AS2: ='Data Entry Sheet for submission'!C43 & " " & 'Data Entry Sheet for submission'!D43 | AT2: ='Data Entry Sheet for submission'!E43 -> 0 | AU2: ='Data Entry Sheet for submission'!C44 & " " & 'Data Entry Sheet for submission'!D44 | AV2: ='Data Entry Sheet for submission'!E44 -> 0 | AW2: =IF(AND(ISBLANK('Data Entry Sheet for submission'!C45),ISBLANK('Data Entry Sheet for submission'!D45)),"",'Data Entry Sheet for submission'!C45 & " " & 'Data Entry Sheet for submission'!D45) | AX2: =IF(ISBLANK('Data Entry Sheet for submission'!E45),"",'Data Entry Sheet for submission'!E45) | AY2: =IF(AND(ISBLANK('Data Entry Sheet for submission'!C46),ISBLANK('Data Entry Sheet for submission'!D46)),"",'Data Entry Sheet for submission'!C46 & " " & 'Data Entry Sheet for submission'!D46) | AZ2: =IF(ISBLANK('Data Entry Sheet for submission'!E46),"",'Data Entry Sheet for submission'!E46) | BA2: =IF(AND(ISBLANK('Data Entry Sheet for submission'!C47),ISBLANK('Data Entry Sheet for submission'!D47)),"",'Data Entry Sheet for submission'!C47 & " " & 'Data Entry Sheet for submission'!D47) | BB2: =IF(ISBLANK('Data Entry Sheet for submission'!E47),"",'Data Entry Sheet for submission'!E47) | BC2: =IF(AND(ISBLANK('Data Entry Sheet for submission'!C48),ISBLANK('Data Entry Sheet for submission'!D48)),"",'Data Entry Sheet for submission'!C48 & " " & 'Data Entry Sheet for submission'!D48) | BD2: =IF(ISBLANK('Data Entry Sheet for submission'!E48),"",'Data Entry Sheet for submission'!E48)
